Back to Multiple platform build/check report for BioC 3.12
ABC[D]EFGHIJKLMNOPQRSTUVWXYZ

INSTALL report for DiffLogo on tokay1

This page was generated on 2021-02-22 12:37:55 -0500 (Mon, 22 Feb 2021).

To the developers/maintainers of the DiffLogo package:
Please make sure to use the following settings in order to reproduce any error or warning you see on this page.
Package 479/1974HostnameOS / ArchINSTALLBUILDCHECKBUILD BIN
DiffLogo 2.14.0
Hendrik Treutler
Snapshot Date: 2021-02-21 14:52:07 -0500 (Sun, 21 Feb 2021)
URL: https://git.bioconductor.org/packages/DiffLogo
Branch: RELEASE_3_12
Last Commit: 7edeada
Last Changed Date: 2020-10-27 11:08:01 -0500 (Tue, 27 Oct 2020)
malbec1Linux (Ubuntu 18.04.5 LTS) / x86_64  OK    OK    OK  UNNEEDED, same version exists in internal repository
nebbiolo1Linux (Ubuntu 20.04.2 LTS) / x86_64  OK    OK    OK  
tokay1Windows Server 2012 R2 Standard / x64  OK    OK    OK    OK  UNNEEDED, same version exists in internal repository
merida1macOS 10.14.6 Mojave / x86_64  OK    OK    OK    OK  UNNEEDED, same version exists in internal repository

Summary

Package: DiffLogo
Version: 2.14.0
Command: C:\cygwin\bin\curl.exe -O https://malbec1.bioconductor.org/BBS/3.12/bioc/src/contrib/DiffLogo_2.14.0.tar.gz && rm -rf DiffLogo.buildbin-libdir && mkdir DiffLogo.buildbin-libdir && C:\Users\biocbuild\bbs-3.12-bioc\R\bin\R.exe CMD INSTALL --merge-multiarch --build --library=DiffLogo.buildbin-libdir DiffLogo_2.14.0.tar.gz && C:\Users\biocbuild\bbs-3.12-bioc\R\bin\R.exe CMD INSTALL DiffLogo_2.14.0.zip && rm DiffLogo_2.14.0.tar.gz DiffLogo_2.14.0.zip
StartedAt: 2021-02-21 16:51:34 -0500 (Sun, 21 Feb 2021)
EndedAt: 2021-02-21 16:52:34 -0500 (Sun, 21 Feb 2021)
EllapsedTime: 60.5 seconds
RetCode: 0
Status:   OK   

Command output

##############################################################################
##############################################################################
###
### Running command:
###
###   C:\cygwin\bin\curl.exe -O https://malbec1.bioconductor.org/BBS/3.12/bioc/src/contrib/DiffLogo_2.14.0.tar.gz && rm -rf DiffLogo.buildbin-libdir && mkdir DiffLogo.buildbin-libdir && C:\Users\biocbuild\bbs-3.12-bioc\R\bin\R.exe CMD INSTALL --merge-multiarch --build --library=DiffLogo.buildbin-libdir DiffLogo_2.14.0.tar.gz && C:\Users\biocbuild\bbs-3.12-bioc\R\bin\R.exe CMD INSTALL DiffLogo_2.14.0.zip && rm DiffLogo_2.14.0.tar.gz DiffLogo_2.14.0.zip
###
##############################################################################
##############################################################################


  % Total    % Received % Xferd  Average Speed   Time    Time     Time  Current
                                 Dload  Upload   Total   Spent    Left  Speed

  0     0    0     0    0     0      0      0 --:--:-- --:--:-- --:--:--     0
100  740k  100  740k    0     0  14.2M      0 --:--:-- --:--:-- --:--:-- 15.7M

install for i386

* installing *source* package 'DiffLogo' ...
** using staged installation
** R
** inst
** byte-compile and prepare package for lazy loading
** help
*** installing help indices
  converting help for package 'DiffLogo'
    finding HTML links ... done
    ASN                                     html  
    Alphabet                                html  
    DNA                                     html  
    FULL_ALPHABET                           html  
    RNA                                     html  
    alignPwmSets                            html  
    baseDistributionPwm                     html  
    calculatePvalue                         html  
    createDiffLogoObject                    html  
    diffLogo                                html  
    diffLogoFromPwm                         html  
    diffLogoTable                           html  
    diffLogoTableConfiguration              html  
    differenceOfICs                         html  
    drawDiffLogoTable                       html  
    enrichDiffLogoObjectWithPvalues         html  
    enrichDiffLogoTableWithPvalues          html  
    extendPwmsFromAlignmentVector           html  
    getAlphabetFromCharacters               html  
    getAlphabetFromSequences                html  
    getPwmFromAlignment                     html  
    getPwmFromAlignmentFile                 html  
    getPwmFromFastaFile                     html  
    getPwmFromFile                          html  
    getPwmFromHomerFile                     html  
    getPwmFromPfmOrJasparFile               html  
    getPwmFromPwmFile                       html  
    getSequencesFromAlignmentFile           html  
    getSequencesFromFastaFile               html  
    informationContent                      html  
    localPwmAlignment                       html  
    lossOfAbsICDifferences                  html  
    multipleLocalPwmsAlignment              html  
    normalizePWM                            html  
    normalizedDifferenceOfProbabilities     html  
    prepareDiffLogoTable                    html  
    probabilities                           html  
    pwmDivergence                           html  
    pwmsDistanceMatrix                      html  
    reverseAlignmentVector                  html  
    seqLogo                                 html  
    shannonDivergence                       html  
    sumOfAbsICDifferences                   html  
    sumOfAbsProbabilityDifferences          html  
    sumProbabilities                        html  
    switchDirection                         html  
    twoSetsAveragePwmDivergenceFromAlignmentVector
                                            html  
** building package indices
** installing vignettes
** testing if installed package can be loaded from temporary location
** testing if installed package can be loaded from final location
** testing if installed package keeps a record of temporary installation path

install for x64

* installing *source* package 'DiffLogo' ...
** testing if installed package can be loaded
* MD5 sums
packaged installation of 'DiffLogo' as DiffLogo_2.14.0.zip
* DONE (DiffLogo)
* installing to library 'C:/Users/biocbuild/bbs-3.12-bioc/R/library'
package 'DiffLogo' successfully unpacked and MD5 sums checked