Back to Multiple platform build/check report for BioC 3.12
ABC[D]EFGHIJKLMNOPQRSTUVWXYZ

CHECK report for DiffLogo on malbec1

This page was generated on 2021-02-22 12:29:24 -0500 (Mon, 22 Feb 2021).

To the developers/maintainers of the DiffLogo package:
Please make sure to use the following settings in order to reproduce any error or warning you see on this page.
Package 479/1974HostnameOS / ArchINSTALLBUILDCHECKBUILD BIN
DiffLogo 2.14.0
Hendrik Treutler
Snapshot Date: 2021-02-21 14:52:07 -0500 (Sun, 21 Feb 2021)
URL: https://git.bioconductor.org/packages/DiffLogo
Branch: RELEASE_3_12
Last Commit: 7edeada
Last Changed Date: 2020-10-27 11:08:01 -0500 (Tue, 27 Oct 2020)
malbec1Linux (Ubuntu 18.04.5 LTS) / x86_64  OK    OK    OK  UNNEEDED, same version exists in internal repository
nebbiolo1Linux (Ubuntu 20.04.2 LTS) / x86_64  OK    OK    OK  
tokay1Windows Server 2012 R2 Standard / x64  OK    OK    OK    OK  UNNEEDED, same version exists in internal repository
merida1macOS 10.14.6 Mojave / x86_64  OK    OK    OK    OK  UNNEEDED, same version exists in internal repository

Summary

Package: DiffLogo
Version: 2.14.0
Command: /home/biocbuild/bbs-3.12-bioc/R/bin/R CMD check --install=check:DiffLogo.install-out.txt --library=/home/biocbuild/bbs-3.12-bioc/R/library --no-vignettes --timings DiffLogo_2.14.0.tar.gz
StartedAt: 2021-02-22 01:26:19 -0500 (Mon, 22 Feb 2021)
EndedAt: 2021-02-22 01:26:54 -0500 (Mon, 22 Feb 2021)
EllapsedTime: 35.2 seconds
RetCode: 0
Status:   OK  
CheckDir: DiffLogo.Rcheck
Warnings: 0

Command output

##############################################################################
##############################################################################
###
### Running command:
###
###   /home/biocbuild/bbs-3.12-bioc/R/bin/R CMD check --install=check:DiffLogo.install-out.txt --library=/home/biocbuild/bbs-3.12-bioc/R/library --no-vignettes --timings DiffLogo_2.14.0.tar.gz
###
##############################################################################
##############################################################################


* using log directory ‘/home/biocbuild/bbs-3.12-bioc/meat/DiffLogo.Rcheck’
* using R version 4.0.3 (2020-10-10)
* using platform: x86_64-pc-linux-gnu (64-bit)
* using session charset: UTF-8
* using option ‘--no-vignettes’
* checking for file ‘DiffLogo/DESCRIPTION’ ... OK
* checking extension type ... Package
* this is package ‘DiffLogo’ version ‘2.14.0’
* checking package namespace information ... OK
* checking package dependencies ... OK
* checking if this is a source package ... OK
* checking if there is a namespace ... OK
* checking for hidden files and directories ... OK
* checking for portable file names ... OK
* checking for sufficient/correct file permissions ... OK
* checking whether package ‘DiffLogo’ can be installed ... OK
* checking installed package size ... OK
* checking package directory ... OK
* checking ‘build’ directory ... OK
* checking DESCRIPTION meta-information ... OK
* checking top-level files ... OK
* checking for left-over files ... OK
* checking index information ... OK
* checking package subdirectories ... OK
* checking R files for non-ASCII characters ... OK
* checking R files for syntax errors ... OK
* checking whether the package can be loaded ... OK
* checking whether the package can be loaded with stated dependencies ... OK
* checking whether the package can be unloaded cleanly ... OK
* checking whether the namespace can be loaded with stated dependencies ... OK
* checking whether the namespace can be unloaded cleanly ... OK
* checking dependencies in R code ... OK
* checking S3 generic/method consistency ... OK
* checking replacement functions ... OK
* checking foreign function calls ... OK
* checking R code for possible problems ... NOTE
diffLogo: no visible global function definition for ‘is’
preconditionTransformPWM: no visible global function definition for
  ‘is’
Undefined global functions or variables:
  is
Consider adding
  importFrom("methods", "is")
to your NAMESPACE file (and ensure that your DESCRIPTION Imports field
contains 'methods').
* checking Rd files ... OK
* checking Rd metadata ... OK
* checking Rd cross-references ... OK
* checking for missing documentation entries ... OK
* checking for code/documentation mismatches ... OK
* checking Rd \usage sections ... OK
* checking Rd contents ... OK
* checking for unstated dependencies in examples ... OK
* checking files in ‘vignettes’ ... OK
* checking examples ... OK
* checking for unstated dependencies in ‘tests’ ... OK
* checking tests ...
  Running ‘testthat.R’
 OK
* checking for unstated dependencies in vignettes ... OK
* checking package vignettes in ‘inst/doc’ ... OK
* checking running R code from vignettes ... SKIPPED
* checking re-building of vignette outputs ... SKIPPED
* checking PDF version of manual ... OK
* DONE

Status: 1 NOTE
See
  ‘/home/biocbuild/bbs-3.12-bioc/meat/DiffLogo.Rcheck/00check.log’
for details.



Installation output

DiffLogo.Rcheck/00install.out

##############################################################################
##############################################################################
###
### Running command:
###
###   /home/biocbuild/bbs-3.12-bioc/R/bin/R CMD INSTALL DiffLogo
###
##############################################################################
##############################################################################


* installing to library ‘/home/biocbuild/bbs-3.12-bioc/R/library’
* installing *source* package ‘DiffLogo’ ...
** using staged installation
** R
** inst
** byte-compile and prepare package for lazy loading
** help
*** installing help indices
** building package indices
** installing vignettes
** testing if installed package can be loaded from temporary location
** testing if installed package can be loaded from final location
** testing if installed package keeps a record of temporary installation path
* DONE (DiffLogo)

Tests output

DiffLogo.Rcheck/tests/testthat.Rout


R version 4.0.3 (2020-10-10) -- "Bunny-Wunnies Freak Out"
Copyright (C) 2020 The R Foundation for Statistical Computing
Platform: x86_64-pc-linux-gnu (64-bit)

R is free software and comes with ABSOLUTELY NO WARRANTY.
You are welcome to redistribute it under certain conditions.
Type 'license()' or 'licence()' for distribution details.

R is a collaborative project with many contributors.
Type 'contributors()' for more information and
'citation()' on how to cite R or R packages in publications.

Type 'demo()' for some demos, 'help()' for on-line help, or
'help.start()' for an HTML browser interface to help.
Type 'q()' to quit R.

> 
> proc.time()
   user  system elapsed 
  0.260   0.024   0.282 

Example timings

DiffLogo.Rcheck/DiffLogo-Ex.timings

nameusersystemelapsed
ASN000
Alphabet000
DNA000
FULL_ALPHABET0.0040.0000.000
RNA000
calculatePvalue0.0320.0000.032
createDiffLogoObject0.0640.0040.083
diffLogo0.0600.0000.061
diffLogoFromPwm0.0600.0000.058
diffLogoTable1.3240.0161.343
diffLogoTableConfiguration0.0000.0000.002
differenceOfICs0.3760.0000.377
drawDiffLogoTable1.5600.0041.564
enrichDiffLogoObjectWithPvalues0.1800.0040.185
enrichDiffLogoTableWithPvalues3.6760.0083.696
extendPwmsFromAlignmentVector0.0640.0040.074
getAlphabetFromCharacters0.0000.0000.001
getAlphabetFromSequences0.0040.0000.000
getPwmFromAlignment0.4920.0160.515
getPwmFromAlignmentFile0.0080.0000.009
getPwmFromFastaFile0.0200.0000.019
getPwmFromFile0.0040.0000.004
getPwmFromHomerFile0.0000.0000.003
getPwmFromPfmOrJasparFile0.0040.0000.003
getPwmFromPwmFile0.0000.0040.004
getSequencesFromAlignmentFile0.0000.0000.002
getSequencesFromFastaFile0.0000.0040.002
informationContent0.0960.0040.099
lossOfAbsICDifferences0.0840.0040.088
multipleLocalPwmsAlignment0.060.000.06
normalizePWM000
normalizedDifferenceOfProbabilities0.0840.0040.088
prepareDiffLogoTable1.2560.0041.262
probabilities0.0360.0040.043
seqLogo0.0440.0000.045
shannonDivergence0.0520.0000.053
sumOfAbsICDifferences0.0480.0080.055
sumOfAbsProbabilityDifferences0.0560.0000.055
sumProbabilities0.0440.0000.044