Back to Multiple platform build/check report for BioC 3.12
ABC[D]EFGHIJKLMNOPQRSTUVWXYZ

BUILD report for DiffLogo on malbec1

This page was generated on 2021-02-22 12:29:24 -0500 (Mon, 22 Feb 2021).

To the developers/maintainers of the DiffLogo package:
Please make sure to use the following settings in order to reproduce any error or warning you see on this page.
Package 479/1974HostnameOS / ArchINSTALLBUILDCHECKBUILD BIN
DiffLogo 2.14.0
Hendrik Treutler
Snapshot Date: 2021-02-21 14:52:07 -0500 (Sun, 21 Feb 2021)
URL: https://git.bioconductor.org/packages/DiffLogo
Branch: RELEASE_3_12
Last Commit: 7edeada
Last Changed Date: 2020-10-27 11:08:01 -0500 (Tue, 27 Oct 2020)
malbec1Linux (Ubuntu 18.04.5 LTS) / x86_64  OK    OK    OK  UNNEEDED, same version exists in internal repository
nebbiolo1Linux (Ubuntu 20.04.2 LTS) / x86_64  OK    OK    OK  
tokay1Windows Server 2012 R2 Standard / x64  OK    OK    OK    OK  UNNEEDED, same version exists in internal repository
merida1macOS 10.14.6 Mojave / x86_64  OK    OK    OK    OK  UNNEEDED, same version exists in internal repository

Summary

Package: DiffLogo
Version: 2.14.0
Command: /home/biocbuild/bbs-3.12-bioc/R/bin/R CMD build --keep-empty-dirs --no-resave-data DiffLogo
StartedAt: 2021-02-21 18:51:09 -0500 (Sun, 21 Feb 2021)
EndedAt: 2021-02-21 18:51:59 -0500 (Sun, 21 Feb 2021)
EllapsedTime: 49.9 seconds
RetCode: 0
Status:   OK  
PackageFile: DiffLogo_2.14.0.tar.gz
PackageFileSize: 857.2 KiB

Command output

##############################################################################
##############################################################################
###
### Running command:
###
###   /home/biocbuild/bbs-3.12-bioc/R/bin/R CMD build --keep-empty-dirs --no-resave-data DiffLogo
###
##############################################################################
##############################################################################


* checking for file ‘DiffLogo/DESCRIPTION’ ... OK
* preparing ‘DiffLogo’:
* checking DESCRIPTION meta-information ... OK
* installing the package to build vignettes
* creating vignettes ... OK
* checking for LF line-endings in source and make files and shell scripts
* checking for empty or unneeded directories
* building ‘DiffLogo_2.14.0.tar.gz’