Index of /checkResults/release/bioc-LATEST/DiffBind/raw-results/lconway

[ICO]NameLast modifiedSizeDescription

[DIR]Parent Directory  -  
[TXT]buildbin-out.txt22-May-2024 00:37 13K 
[   ]buildbin-summary.dcf22-May-2024 00:37 537  
[TXT]buildsrc-out.txt23-May-2024 00:36 1.0K 
[   ]buildsrc-summary.dcf23-May-2024 00:36 344  
[TXT]checksrc-out.txt22-May-2024 00:37 17K 
[   ]checksrc-summary.dcf22-May-2024 00:37 448  
[TXT]install-out.txt23-May-2024 00:36 806  
[   ]install-summary.dcf23-May-2024 00:36 273