Name | Last modified | Size | Description | |
---|---|---|---|---|
Parent Directory | - | |||
checksrc-summary.dcf | 24-Jul-2024 22:03 | 444 | ||
checksrc-out.txt | 24-Jul-2024 22:03 | 4.7K | ||
buildsrc-summary.dcf | 24-Jul-2024 22:03 | 436 | ||
buildsrc-out.txt | 24-Jul-2024 22:03 | 862 | ||
install-out.txt | 24-Jul-2024 22:03 | 1.2K | ||
install-summary.dcf | 24-Jul-2024 22:03 | 271 | ||