Index of /checkResults/release/bioc-LATEST/DelayedTensor/raw-results/nebbiolo1

[ICO]NameLast modifiedSizeDescription

[DIR]Parent Directory  -  
[TXT]buildsrc-out.txt15-Jun-2024 03:37 862  
[   ]buildsrc-summary.dcf15-Jun-2024 03:37 436  
[TXT]checksrc-out.txt15-Jun-2024 03:37 4.7K 
[   ]checksrc-summary.dcf15-Jun-2024 03:37 444  
[TXT]install-out.txt15-Jun-2024 03:37 1.2K 
[   ]install-summary.dcf15-Jun-2024 03:37 271