Name | Last modified | Size | Description | |
---|---|---|---|---|
Parent Directory | - | |||
checksrc-out.txt | 24-Jul-2024 22:05 | 4.8K | ||
buildbin-out.txt | 24-Jul-2024 22:05 | 1.5K | ||
install-out.txt | 24-Jul-2024 22:05 | 1.3K | ||
buildsrc-out.txt | 24-Jul-2024 22:05 | 872 | ||
buildbin-summary.dcf | 24-Jul-2024 22:05 | 566 | ||
checksrc-summary.dcf | 24-Jul-2024 22:05 | 475 | ||
buildsrc-summary.dcf | 24-Jul-2024 22:05 | 446 | ||
install-summary.dcf | 24-Jul-2024 22:05 | 281 | ||