Name | Last modified | Size | Description | |
---|---|---|---|---|
Parent Directory | - | |||
buildbin-out.txt | 08-May-2024 00:39 | 1.5K | ||
buildbin-summary.dcf | 08-May-2024 00:39 | 566 | ||
buildsrc-out.txt | 08-May-2024 00:39 | 872 | ||
buildsrc-summary.dcf | 08-May-2024 00:39 | 446 | ||
checksrc-out.txt | 08-May-2024 00:39 | 4.8K | ||
checksrc-summary.dcf | 08-May-2024 00:39 | 474 | ||
install-out.txt | 08-May-2024 00:39 | 1.3K | ||
install-summary.dcf | 08-May-2024 00:39 | 281 | ||