Index of /checkResults/release/bioc-LATEST/DelayedTensor/raw-results/kjohnson1

[ICO]NameLast modifiedSizeDescription

[DIR]Parent Directory  -  
[TXT]buildbin-out.txt10-Jul-2024 06:43 1.5K 
[   ]buildbin-summary.dcf10-Jul-2024 06:43 566  
[TXT]buildsrc-out.txt10-Jul-2024 06:43 872  
[   ]buildsrc-summary.dcf10-Jul-2024 06:43 446  
[TXT]checksrc-out.txt10-Jul-2024 06:43 4.8K 
[   ]checksrc-summary.dcf10-Jul-2024 06:43 474  
[TXT]install-out.txt10-Jul-2024 06:43 1.3K 
[   ]install-summary.dcf10-Jul-2024 06:43 281