Name | Last modified | Size | Description | |
---|---|---|---|---|
Parent Directory | - | |||
buildbin-out.txt | 27-Jul-2024 06:39 | 7.2K | ||
buildbin-summary.dcf | 27-Jul-2024 06:39 | 582 | ||
checksrc-out.txt | 27-Jul-2024 06:39 | 4.1K | ||
checksrc-summary.dcf | 27-Jul-2024 06:39 | 491 | ||
buildsrc-summary.dcf | 27-Jul-2024 06:39 | 496 | ||
buildsrc-out.txt | 27-Jul-2024 06:39 | 926 | ||
install-out.txt | 27-Jul-2024 06:39 | 7.0K | ||
install-summary.dcf | 27-Jul-2024 06:39 | 290 | ||