Name | Last modified | Size | Description | |
---|---|---|---|---|
Parent Directory | - | |||
install-summary.dcf | 29-Jun-2024 06:41 | 290 | ||
checksrc-summary.dcf | 29-Jun-2024 06:41 | 491 | ||
buildsrc-summary.dcf | 29-Jun-2024 06:41 | 496 | ||
buildbin-summary.dcf | 29-Jun-2024 06:41 | 581 | ||
buildsrc-out.txt | 29-Jun-2024 06:41 | 926 | ||
checksrc-out.txt | 29-Jun-2024 06:41 | 4.1K | ||
install-out.txt | 29-Jun-2024 06:41 | 7.0K | ||
buildbin-out.txt | 29-Jun-2024 06:41 | 7.2K | ||