![]() | Name | Last modified | Size | Description |
---|---|---|---|---|
![]() | Parent Directory | - | ||
![]() | buildbin-out.txt | 24-Sep-2023 00:35 | 7.2K | |
![]() | buildbin-summary.dcf | 24-Sep-2023 00:35 | 578 | |
![]() | buildsrc-out.txt | 24-Sep-2023 00:35 | 925 | |
![]() | buildsrc-summary.dcf | 24-Sep-2023 00:35 | 494 | |
![]() | checksrc-out.txt | 24-Sep-2023 00:35 | 4.1K | |
![]() | checksrc-summary.dcf | 24-Sep-2023 00:35 | 489 | |
![]() | install-out.txt | 24-Sep-2023 00:35 | 7.0K | |
![]() | install-summary.dcf | 24-Sep-2023 00:35 | 289 | |