Name | Last modified | Size | Description | |
---|---|---|---|---|
Parent Directory | - | |||
install-summary.dcf | 24-Jul-2024 22:03 | 281 | ||
install-out.txt | 24-Jul-2024 22:03 | 7.0K | ||
checksrc-summary.dcf | 24-Jul-2024 22:03 | 458 | ||
checksrc-out.txt | 24-Jul-2024 22:03 | 3.5K | ||
buildsrc-summary.dcf | 24-Jul-2024 22:03 | 450 | ||
buildsrc-out.txt | 24-Jul-2024 22:03 | 880 | ||