![]() | Name | Last modified | Size | Description |
---|---|---|---|---|
![]() | Parent Directory | - | ||
![]() | buildbin-out.txt | 03-Oct-2023 00:37 | 5.9K | |
![]() | buildbin-summary.dcf | 03-Oct-2023 00:37 | 594 | |
![]() | buildsrc-out.txt | 03-Oct-2023 00:37 | 889 | |
![]() | buildsrc-summary.dcf | 03-Oct-2023 00:37 | 459 | |
![]() | checksrc-out.txt | 03-Oct-2023 00:37 | 3.6K | |
![]() | checksrc-summary.dcf | 03-Oct-2023 00:37 | 486 | |
![]() | install-out.txt | 03-Oct-2023 00:37 | 3.5K | |
![]() | install-summary.dcf | 03-Oct-2023 00:37 | 291 | |