Name | Last modified | Size | Description | |
---|---|---|---|---|
Parent Directory | - | |||
install-out.txt | 12-Jun-2024 03:42 | 3.5K | ||
install-summary.dcf | 12-Jun-2024 03:42 | 291 | ||
buildsrc-out.txt | 12-Jun-2024 03:42 | 890 | ||
buildsrc-summary.dcf | 12-Jun-2024 03:42 | 460 | ||
checksrc-out.txt | 12-Jun-2024 03:42 | 3.6K | ||
checksrc-summary.dcf | 12-Jun-2024 03:42 | 488 | ||
buildbin-out.txt | 12-Jun-2024 03:42 | 5.8K | ||
buildbin-summary.dcf | 12-Jun-2024 03:42 | 596 | ||