Index of /checkResults/release/bioc-LATEST/DelayedMatrixStats/raw-results/nebbiolo1

[ICO]NameLast modifiedSizeDescription

[DIR]Parent Directory  -  
[TXT]buildsrc-out.txt17-Jul-2024 06:38 1.0K 
[   ]buildsrc-summary.dcf17-Jul-2024 06:38 451  
[TXT]checksrc-out.txt17-Jul-2024 06:38 3.8K 
[   ]checksrc-summary.dcf17-Jul-2024 06:38 458  
[TXT]install-out.txt17-Jul-2024 06:38 1.0K 
[   ]install-summary.dcf17-Jul-2024 06:38 281