Name | Last modified | Size | Description | |
---|---|---|---|---|
Parent Directory | - | |||
buildbin-summary.dcf | 29-Jun-2024 06:41 | 569 | ||
buildbin-out.txt | 29-Jun-2024 06:41 | 1.1K | ||
checksrc-summary.dcf | 29-Jun-2024 06:41 | 483 | ||
checksrc-out.txt | 29-Jun-2024 06:41 | 3.4K | ||
buildsrc-summary.dcf | 29-Jun-2024 06:41 | 488 | ||
buildsrc-out.txt | 29-Jun-2024 06:41 | 884 | ||
install-summary.dcf | 29-Jun-2024 06:41 | 286 | ||
install-out.txt | 29-Jun-2024 06:41 | 1.0K | ||