Index of /checkResults/release/bioc-LATEST/DeepPINCS/raw-results/riesling1

[ICO]NameLast modifiedSizeDescription

[DIR]Parent Directory  -  
[TXT]checksrc-out.txt13-Mar-2022 01:06 4.3K 
[   ]checksrc-summary.dcf13-Mar-2022 01:06 453  
[TXT]buildbin-out.txt13-Mar-2022 01:06 2.2K 
[   ]buildbin-summary.dcf13-Mar-2022 01:06 523  
[TXT]install-out.txt19-Mar-2022 00:07 2.2K 
[   ]install-summary.dcf19-Mar-2022 00:07 271  
[TXT]buildsrc-out.txt19-Mar-2022 00:07 8.3K 
[   ]buildsrc-summary.dcf19-Mar-2022 00:07 373