Index of /checkResults/release/bioc-LATEST/DeepPINCS/raw-results/merida1

[ICO]NameLast modifiedSizeDescription

[DIR]Parent Directory  -  
[TXT]buildbin-out.txt02-Jul-2022 01:07 1.2K 
[   ]buildbin-summary.dcf02-Jul-2022 01:07 538  
[TXT]buildsrc-out.txt02-Jul-2022 01:07 823  
[   ]buildsrc-summary.dcf02-Jul-2022 01:07 432  
[TXT]checksrc-out.txt02-Jul-2022 01:07 4.2K 
[   ]checksrc-summary.dcf02-Jul-2022 01:07 450  
[TXT]install-out.txt02-Jul-2022 01:07 1.0K 
[   ]install-summary.dcf02-Jul-2022 01:07 272