Back to Multiple platform build/check report for BioC 3.16:   simplified   long
ABC[D]EFGHIJKLMNOPQRSTUVWXYZ

This page was generated on 2023-02-04 11:04:12 -0500 (Sat, 04 Feb 2023).

HostnameOSArch (*)R versionInstalled pkgs
nebbiolo2Linux (Ubuntu 20.04.5 LTS)x86_644.2.2 (2022-10-31) -- "Innocent and Trusting" 4511
palomino4Windows Server 2022 Datacenterx644.2.2 (2022-10-31 ucrt) -- "Innocent and Trusting" 4289
lconwaymacOS 12.5.1 Montereyx86_644.2.2 (2022-10-31) -- "Innocent and Trusting" 4318
Click on any hostname to see more info about the system (e.g. compilers)      (*) as reported by 'uname -p', except on Windows and Mac OS X

All results for package DeepBlueR


To the developers/maintainers of the DeepBlueR package:
- Please allow up to 24 hours (and sometimes 48 hours) for your latest push to git@git.bioconductor.org:packages/DeepBlueR.git to
reflect on this report. See How and When does the builder pull? When will my changes propagate? for more information.
- Make sure to use the following settings in order to reproduce any error or warning you see on this page.

raw results

Package 495/2183HostnameOS / ArchINSTALLBUILDCHECKBUILD BIN
DeepBlueR 1.24.1  (landing page)
Felipe Albrecht , Markus List , Quirin Manz
Snapshot Date: 2023-02-03 14:00:04 -0500 (Fri, 03 Feb 2023)
git_url: https://git.bioconductor.org/packages/DeepBlueR
git_branch: RELEASE_3_16
git_last_commit: d404c5b
git_last_commit_date: 2023-01-10 05:22:00 -0500 (Tue, 10 Jan 2023)
nebbiolo2Linux (Ubuntu 20.04.5 LTS) / x86_64  OK    OK    OK  UNNEEDED, same version is already published
palomino4Windows Server 2022 Datacenter / x64  OK    OK    OK    OK  UNNEEDED, same version is already published
lconwaymacOS 12.5.1 Monterey / x86_64  OK    OK    OK    OK  UNNEEDED, same version is already published