Back to Multiple platform build/check report for BioC 3.15
ABC[D]EFGHIJKLMNOPQRSTUVWXYZ

This page was generated on 2022-08-15 13:21:19 -0400 (Mon, 15 Aug 2022).

HostnameOSArch (*)R versionInstalled pkgs
nebbiolo1Linux (Ubuntu 20.04.4 LTS)x86_644.2.1 (2022-06-23) -- "Funny-Looking Kid" 4365
palomino3Windows Server 2022 Datacenterx644.2.1 (2022-06-23 ucrt) -- "Funny-Looking Kid" 4118
merida1macOS 10.14.6 Mojavex86_644.2.1 (2022-06-23) -- "Funny-Looking Kid" 4183
Click on any hostname to see more info about the system (e.g. compilers)      (*) as reported by 'uname -p', except on Windows and Mac OS X

BUILD BIN results for DeMixT on palomino3


To the developers/maintainers of the DeMixT package:
- Please allow up to 24 hours (and sometimes 48 hours) for your latest push to git@git.bioconductor.org:packages/DeMixT.git to
reflect on this report. See How and When does the builder pull? When will my changes propagate? for more information.
- Make sure to use the following settings in order to reproduce any error or warning you see on this page.

raw results

Package 504/2140HostnameOS / ArchINSTALLBUILDCHECKBUILD BIN
DeMixT 1.12.0  (landing page)
Shuai Guo
Snapshot Date: 2022-08-14 13:55:13 -0400 (Sun, 14 Aug 2022)
git_url: https://git.bioconductor.org/packages/DeMixT
git_branch: RELEASE_3_15
git_last_commit: f7bf7d2
git_last_commit_date: 2022-04-26 11:54:08 -0400 (Tue, 26 Apr 2022)
nebbiolo1Linux (Ubuntu 20.04.4 LTS) / x86_64  OK    OK    WARNINGS  UNNEEDED, same version is already published
palomino3Windows Server 2022 Datacenter / x64  OK    OK    WARNINGS    OK  UNNEEDED, same version is already published
merida1macOS 10.14.6 Mojave / x86_64  OK    OK    WARNINGS    OK  UNNEEDED, same version is already published

Summary

Package: DeMixT
Version: 1.12.0
Command: rm -rf DeMixT.buildbin-libdir && mkdir DeMixT.buildbin-libdir && F:\biocbuild\bbs-3.15-bioc\R\bin\R.exe CMD INSTALL --build --library=DeMixT.buildbin-libdir DeMixT_1.12.0.tar.gz
StartedAt: 2022-08-15 06:23:46 -0400 (Mon, 15 Aug 2022)
EndedAt: 2022-08-15 06:24:40 -0400 (Mon, 15 Aug 2022)
EllapsedTime: 53.6 seconds
RetCode: 0
Status:   OK  
PackageFile: DeMixT_1.12.0.zip
PackageFileSize: 2.8 MiB

Command output

##############################################################################
##############################################################################
###
### Running command:
###
###   rm -rf DeMixT.buildbin-libdir && mkdir DeMixT.buildbin-libdir && F:\biocbuild\bbs-3.15-bioc\R\bin\R.exe CMD INSTALL --build --library=DeMixT.buildbin-libdir DeMixT_1.12.0.tar.gz
###
##############################################################################
##############################################################################


* installing *source* package 'DeMixT' ...
** using staged installation
** libs
gcc  -I"F:/biocbuild/bbs-3.15-bioc/R/include" -DNDEBUG  -I'F:/biocbuild/bbs-3.15-bioc/R/library/Rcpp/include'   -I"C:/rtools42/x86_64-w64-mingw32.static.posix/include"  -fopenmp   -O2 -Wall  -std=gnu99 -mfpmath=sse -msse2 -mstackrealign  -c DeMixT.c -o DeMixT.o
DeMixT.c: In function 'Tdemix':
DeMixT.c:268:28: warning: implicit declaration of function 'Rprintf'; did you mean 'wprintf'? [-Wimplicit-function-declaration]
  268 |         if (nHavepi != 1)  Rprintf("Iteration %d: updating parameters\n", i+1);
      |                            ^~~~~~~
      |                            wprintf
DeMixT.c:36:45: warning: variable 'st2_sig_2' set but not used [-Wunused-but-set-variable]
   36 |   double *st1_mu_2, *st2_mu_2, *st1_sig_2, *st2_sig_2;
      |                                             ^~~~~~~~~
DeMixT.c:36:33: warning: variable 'st1_sig_2' set but not used [-Wunused-but-set-variable]
   36 |   double *st1_mu_2, *st2_mu_2, *st1_sig_2, *st2_sig_2;
      |                                 ^~~~~~~~~
DeMixT.c:36:22: warning: variable 'st2_mu_2' set but not used [-Wunused-but-set-variable]
   36 |   double *st1_mu_2, *st2_mu_2, *st1_sig_2, *st2_sig_2;
      |                      ^~~~~~~~
DeMixT.c:36:11: warning: variable 'st1_mu_2' set but not used [-Wunused-but-set-variable]
   36 |   double *st1_mu_2, *st2_mu_2, *st1_sig_2, *st2_sig_2;
      |           ^~~~~~~~
DeMixT.c: In function 'gettumor':
DeMixT.c:590:21: warning: variable 'obj_new' set but not used [-Wunused-but-set-variable]
  590 |     double obj_old, obj_new;
      |                     ^~~~~~~
DeMixT.c:590:12: warning: variable 'obj_old' set but not used [-Wunused-but-set-variable]
  590 |     double obj_old, obj_new;
      |            ^~~~~~~
DeMixT.c: In function 'getpi':
DeMixT.c:1279:21: warning: variable 'obj_new' set but not used [-Wunused-but-set-variable]
 1279 |     double obj_old, obj_new;
      |                     ^~~~~~~
DeMixT.c:1279:12: warning: variable 'obj_old' set but not used [-Wunused-but-set-variable]
 1279 |     double obj_old, obj_new;
      |            ^~~~~~~
DeMixT.c: In function 'getspikeinpi':
DeMixT.c:1306:18: warning: variable 'obj_new' set but not used [-Wunused-but-set-variable]
 1306 |  double obj_old, obj_new;
      |                  ^~~~~~~
DeMixT.c:1306:9: warning: variable 'obj_old' set but not used [-Wunused-but-set-variable]
 1306 |  double obj_old, obj_new;
      |         ^~~~~~~
DeMixT.c: In function 'getpiT':
DeMixT.c:1321:21: warning: variable 'obj_new' set but not used [-Wunused-but-set-variable]
 1321 |     double obj_old, obj_new;
      |                     ^~~~~~~
DeMixT.c:1321:12: warning: variable 'obj_old' set but not used [-Wunused-but-set-variable]
 1321 |     double obj_old, obj_new;
      |            ^~~~~~~
DeMixT.c: In function 'Tdemix':
DeMixT.c:194:11: warning: 'Tavgtmp' may be used uninitialized in this function [-Wmaybe-uninitialized]
  194 |         if(Tavgtmp <= 0) Tavgtmp = exp(10*log(2.0) + p->Tsigma[j]/2.0*pow(log(2.0), 2.0));
      |           ^
DeMixT.c:239:8: warning: argument 1 range [18446744071562067968, 18446744073709551615] exceeds maximum object size 9223372036854775807 [-Walloc-size-larger-than=]
  239 |   CD = calloc(intx ,sizeof(double *));
      |        ^~~~~~~~~~~~~~~~~~~~~~~~~~~~~~
In file included from DeMixT.c:8:
c:\rtools42\x86_64-w64-mingw32.static.posix\include\stdlib.h:535:17: note: in a call to allocation function 'calloc' declared here
  535 |   void *__cdecl calloc(size_t _NumOfElements,size_t _SizeOfElements);
      |                 ^~~~~~
DeMixT.c:93:8: warning: argument 1 range [18446744071562067968, 18446744073709551615] exceeds maximum object size 9223372036854775807 [-Walloc-size-larger-than=]
   93 |   FD = calloc(nS ,sizeof(double *));
      |        ^~~~~~~~~~~~~~~~~~~~~~~~~~~~
In file included from DeMixT.c:8:
c:\rtools42\x86_64-w64-mingw32.static.posix\include\stdlib.h:535:17: note: in a call to allocation function 'calloc' declared here
  535 |   void *__cdecl calloc(size_t _NumOfElements,size_t _SizeOfElements);
      |                 ^~~~~~
g++ -std=gnu++11  -I"F:/biocbuild/bbs-3.15-bioc/R/include" -DNDEBUG  -I'F:/biocbuild/bbs-3.15-bioc/R/library/Rcpp/include'   -I"C:/rtools42/x86_64-w64-mingw32.static.posix/include"     -O2 -Wall  -mfpmath=sse -msse2 -mstackrealign  -c Profile_2D.cpp -o Profile_2D.o
g++ -std=gnu++11  -I"F:/biocbuild/bbs-3.15-bioc/R/include" -DNDEBUG  -I'F:/biocbuild/bbs-3.15-bioc/R/library/Rcpp/include'   -I"C:/rtools42/x86_64-w64-mingw32.static.posix/include"     -O2 -Wall  -mfpmath=sse -msse2 -mstackrealign  -c RcppExports.cpp -o RcppExports.o
gcc  -I"F:/biocbuild/bbs-3.15-bioc/R/include" -DNDEBUG  -I'F:/biocbuild/bbs-3.15-bioc/R/library/Rcpp/include'   -I"C:/rtools42/x86_64-w64-mingw32.static.posix/include"  -fopenmp   -O2 -Wall  -std=gnu99 -mfpmath=sse -msse2 -mstackrealign  -c init.c -o init.o
gcc  -I"F:/biocbuild/bbs-3.15-bioc/R/include" -DNDEBUG  -I'F:/biocbuild/bbs-3.15-bioc/R/library/Rcpp/include'   -I"C:/rtools42/x86_64-w64-mingw32.static.posix/include"  -fopenmp   -O2 -Wall  -std=gnu99 -mfpmath=sse -msse2 -mstackrealign  -c registerDynamicSymbol.c -o registerDynamicSymbol.o
g++ -std=gnu++11 -shared -s -static-libgcc -o DeMixT.dll tmp.def DeMixT.o Profile_2D.o RcppExports.o init.o registerDynamicSymbol.o -fopenmp -LC:/rtools42/x86_64-w64-mingw32.static.posix/lib/x64 -LC:/rtools42/x86_64-w64-mingw32.static.posix/lib -LF:/biocbuild/bbs-3.15-bioc/R/bin/x64 -lR
installing to F:/biocbuild/bbs-3.15-bioc/meat/DeMixT.buildbin-libdir/00LOCK-DeMixT/00new/DeMixT/libs/x64
** R
** data
*** moving datasets to lazyload DB
** inst
** byte-compile and prepare package for lazy loading
** help
*** installing help indices
** building package indices
** installing vignettes
** testing if installed package can be loaded from temporary location
** testing if installed package can be loaded from final location
** testing if installed package keeps a record of temporary installation path
* MD5 sums
packaged installation of 'DeMixT' as DeMixT_1.12.0.zip
* DONE (DeMixT)