Index of /checkResults/release/bioc-LATEST/DeMAND/raw-results

[ICO]NameLast modifiedSizeDescription

[DIR]Parent Directory  -  
[   ]info.dcf21-May-2022 01:07 306  
[DIR]merida1/21-May-2022 01:07 -  
[DIR]nebbiolo1/21-May-2022 01:05 -  
[DIR]palomino3/21-May-2022 01:06 -  
[DIR]riesling1/19-Mar-2022 00:07 -