Back to Multiple platform build/check report for BioC 3.16
ABC[D]EFGHIJKLMNOPQRSTUVWXYZ

This page was generated on 2023-02-01 11:06:51 -0500 (Wed, 01 Feb 2023).

HostnameOSArch (*)R versionInstalled pkgs
nebbiolo2Linux (Ubuntu 20.04.5 LTS)x86_644.2.2 (2022-10-31) -- "Innocent and Trusting" 4511
palomino4Windows Server 2022 Datacenterx644.2.2 (2022-10-31 ucrt) -- "Innocent and Trusting" 4289
lconwaymacOS 12.5.1 Montereyx86_644.2.2 (2022-10-31) -- "Innocent and Trusting" 4318
Click on any hostname to see more info about the system (e.g. compilers)      (*) as reported by 'uname -p', except on Windows and Mac OS X

BUILD BIN results for DRIMSeq on palomino4


To the developers/maintainers of the DRIMSeq package:
- Please allow up to 24 hours (and sometimes 48 hours) for your latest push to git@git.bioconductor.org:packages/DRIMSeq.git to
reflect on this report. See How and When does the builder pull? When will my changes propagate? for more information.
- Make sure to use the following settings in order to reproduce any error or warning you see on this page.

raw results

Package 570/2183HostnameOS / ArchINSTALLBUILDCHECKBUILD BIN
DRIMSeq 1.26.0  (landing page)
Malgorzata Nowicka
Snapshot Date: 2023-01-31 14:00:04 -0500 (Tue, 31 Jan 2023)
git_url: https://git.bioconductor.org/packages/DRIMSeq
git_branch: RELEASE_3_16
git_last_commit: 69cf942
git_last_commit_date: 2022-11-01 11:13:16 -0500 (Tue, 01 Nov 2022)
nebbiolo2Linux (Ubuntu 20.04.5 LTS) / x86_64  OK    OK    WARNINGS  UNNEEDED, same version is already published
palomino4Windows Server 2022 Datacenter / x64  OK    OK    WARNINGS    OK  UNNEEDED, same version is already published
lconwaymacOS 12.5.1 Monterey / x86_64  OK    OK    WARNINGS    OK  UNNEEDED, same version is already published

Summary

Package: DRIMSeq
Version: 1.26.0
Command: rm -rf DRIMSeq.buildbin-libdir && mkdir DRIMSeq.buildbin-libdir && F:\biocbuild\bbs-3.16-bioc\R\bin\R.exe CMD INSTALL --build --library=DRIMSeq.buildbin-libdir DRIMSeq_1.26.0.tar.gz
StartedAt: 2023-02-01 07:49:43 -0500 (Wed, 01 Feb 2023)
EndedAt: 2023-02-01 07:50:19 -0500 (Wed, 01 Feb 2023)
EllapsedTime: 35.7 seconds
RetCode: 0
Status:   OK  
PackageFile: DRIMSeq_1.26.0.zip
PackageFileSize: 744.2 KiB

Command output

##############################################################################
##############################################################################
###
### Running command:
###
###   rm -rf DRIMSeq.buildbin-libdir && mkdir DRIMSeq.buildbin-libdir && F:\biocbuild\bbs-3.16-bioc\R\bin\R.exe CMD INSTALL --build --library=DRIMSeq.buildbin-libdir DRIMSeq_1.26.0.tar.gz
###
##############################################################################
##############################################################################


* installing *source* package 'DRIMSeq' ...
** using staged installation
** R
** inst
** preparing package for lazy loading
Creating a new generic function for 'proportions' in package 'DRIMSeq'
** help
*** installing help indices
** building package indices
** installing vignettes
** testing if installed package can be loaded from temporary location
** testing if installed package can be loaded from final location
** testing if installed package keeps a record of temporary installation path
* MD5 sums
packaged installation of 'DRIMSeq' as DRIMSeq_1.26.0.zip
* DONE (DRIMSeq)