Index of /checkResults/release/bioc-LATEST/DOSE/raw-results
Name
Last modified
Size
Description
Parent Directory
-
kunpeng2/
03-Nov-2023 00:40
-
nebbiolo2/
07-Dec-2023 01:35
-
palomino4/
07-Dec-2023 01:36
-
info.dcf
07-Dec-2023 01:37
270
lconway/
07-Dec-2023 01:37
-