Back to Multiple platform build/check report for BioC 3.14
ABC[D]EFGHIJKLMNOPQRSTUVWXYZ

This page was generated on 2021-12-06 13:05:22 -0500 (Mon, 06 Dec 2021).

BUILD BIN results for DMRcate on tokay2

To the developers/maintainers of the DMRcate package:
- Please allow up to 24 hours (and sometimes 48 hours) for your latest push to git@git.bioconductor.org:packages/DMRcate.git to
reflect on this report. See How and When does the builder pull? When will my changes propagate? here for more information.
- Make sure to use the following settings in order to reproduce any error or warning you see on this page.

raw results

Package 526/2083HostnameOS / ArchINSTALLBUILDCHECKBUILD BIN
DMRcate 2.8.0  (landing page)
Tim Peters
Snapshot Date: 2021-12-05 01:55:05 -0500 (Sun, 05 Dec 2021)
git_url: https://git.bioconductor.org/packages/DMRcate
git_branch: RELEASE_3_14
git_last_commit: 984cee7
git_last_commit_date: 2021-10-26 12:12:00 -0500 (Tue, 26 Oct 2021)
nebbiolo2Linux (Ubuntu 20.04.3 LTS) / x86_64  OK    OK    WARNINGS  UNNEEDED, same version is already published
tokay2Windows Server 2012 R2 Standard / x64  OK    OK    ERROR    OK  
machv2macOS 10.14.6 Mojave / x86_64  OK    OK    ERROR    OK  

Summary

Package: DMRcate
Version: 2.8.0
Command: rm -rf DMRcate.buildbin-libdir && mkdir DMRcate.buildbin-libdir && C:\Users\biocbuild\bbs-3.14-bioc\R\bin\R.exe CMD INSTALL --merge-multiarch --build --library=DMRcate.buildbin-libdir DMRcate_2.8.0.tar.gz
StartedAt: 2021-12-06 07:13:29 -0500 (Mon, 06 Dec 2021)
EndedAt: 2021-12-06 07:15:58 -0500 (Mon, 06 Dec 2021)
EllapsedTime: 148.9 seconds
RetCode: 0
Status:   OK  
PackageFile: DMRcate_2.8.0.zip
PackageFileSize: 812.9 KiB

Command output

##############################################################################
##############################################################################
###
### Running command:
###
###   rm -rf DMRcate.buildbin-libdir && mkdir DMRcate.buildbin-libdir && C:\Users\biocbuild\bbs-3.14-bioc\R\bin\R.exe CMD INSTALL --merge-multiarch --build --library=DMRcate.buildbin-libdir DMRcate_2.8.0.tar.gz
###
##############################################################################
##############################################################################



install for i386

* installing *source* package 'DMRcate' ...
** using staged installation
** R
** inst
** byte-compile and prepare package for lazy loading
Warning: replacing previous import 'minfi::getMeth' by 'bsseq::getMeth' when loading 'DMRcate'
** help
*** installing help indices
  converting help for package 'DMRcate'
    finding HTML links ... done
    CpGannotated-class                      html  
    DMR.plot                                html  
    DMRcate-internal                        html  
    DMRcate-package                         html  
    DMResults-class                         html  
    changeFDR                               html  
    cpg.annotate                            html  
    dmrcate                                 html  
REDIRECT:topic	 Previous alias or file overwritten by alias: C:/Users/biocbuild/bbs-3.14-bioc/meat/DMRcate.buildbin-libdir/00LOCK-DMRcate/00new/DMRcate/help/dmrcate.html
    extractRanges                           html  
    rmSNPandCH                              html  
    sequencing.annotate                     html  
** building package indices
** installing vignettes
** testing if installed package can be loaded from temporary location
Warning: replacing previous import 'minfi::getMeth' by 'bsseq::getMeth' when loading 'DMRcate'
** testing if installed package can be loaded from final location
Warning: replacing previous import 'minfi::getMeth' by 'bsseq::getMeth' when loading 'DMRcate'
** testing if installed package keeps a record of temporary installation path

install for x64

* installing *source* package 'DMRcate' ...
** testing if installed package can be loaded
Warning: replacing previous import 'minfi::getMeth' by 'bsseq::getMeth' when loading 'DMRcate'
* MD5 sums
packaged installation of 'DMRcate' as DMRcate_2.8.0.zip
* DONE (DMRcate)