Name | Last modified | Size | Description | |
---|---|---|---|---|
Parent Directory | - | |||
install-out.txt | 24-Jul-2024 22:04 | 962 | ||
install-summary.dcf | 24-Jul-2024 22:04 | 267 | ||
buildsrc-out.txt | 24-Jul-2024 22:04 | 838 | ||
buildsrc-summary.dcf | 24-Jul-2024 22:04 | 452 | ||
checksrc-out.txt | 24-Jul-2024 22:04 | 3.4K | ||
checksrc-summary.dcf | 24-Jul-2024 22:04 | 446 | ||
buildbin-out.txt | 24-Jul-2024 22:04 | 1.1K | ||
buildbin-summary.dcf | 24-Jul-2024 22:04 | 512 | ||