Name | Last modified | Size | Description | |
---|---|---|---|---|
Parent Directory | - | |||
checksrc-out.txt | 24-Jul-2024 22:05 | 2.8K | ||
buildsrc-out.txt | 27-Jul-2024 06:40 | 1.4K | ||
buildbin-out.txt | 24-Jul-2024 22:05 | 1.1K | ||
install-out.txt | 27-Jul-2024 06:40 | 1.0K | ||
buildbin-summary.dcf | 24-Jul-2024 22:05 | 528 | ||
checksrc-summary.dcf | 24-Jul-2024 22:05 | 452 | ||
buildsrc-summary.dcf | 27-Jul-2024 06:40 | 344 | ||
install-summary.dcf | 27-Jul-2024 06:40 | 268 | ||