Index of /checkResults/release/bioc-LATEST/DMRcate/raw-results/kunpeng2
Name
Last modified
Size
Description
Parent Directory
-
install-summary.dcf
10-May-2024 00:40
269
install-out.txt
10-May-2024 00:40
1.0K
buildsrc-summary.dcf
10-May-2024 00:40
344
buildsrc-out.txt
10-May-2024 00:40
1.8K