Index of /checkResults/release/bioc-LATEST/DMRcate/raw-results/kunpeng2
Name
Last modified
Size
Description
Parent Directory
-
buildsrc-out.txt
03-Nov-2023 00:40
637
buildsrc-summary.dcf
03-Nov-2023 00:40
334
install-out.txt
03-Nov-2023 00:40
940
install-summary.dcf
03-Nov-2023 00:40
253