Name | Last modified | Size | Description | |
---|---|---|---|---|
Parent Directory | - | |||
install-out.txt | 24-Jul-2024 22:07 | 1.0K | ||
install-summary.dcf | 24-Jul-2024 22:07 | 268 | ||
buildsrc-out.txt | 24-Jul-2024 22:07 | 815 | ||
buildsrc-summary.dcf | 24-Jul-2024 22:07 | 427 | ||
checksrc-summary.dcf | 24-Jul-2024 22:07 | 443 | ||
checksrc-out.txt | 24-Jul-2024 22:07 | 3.5K | ||
buildbin-out.txt | 24-Jul-2024 22:07 | 1.1K | ||
buildbin-summary.dcf | 24-Jul-2024 22:07 | 527 | ||