Back to Multiple platform build/check report for BioC 3.14
ABC[D]EFGHIJKLMNOPQRSTUVWXYZ

This page was generated on 2021-12-06 13:05:55 -0500 (Mon, 06 Dec 2021).

BUILD BIN results for DMRcate on machv2

To the developers/maintainers of the DMRcate package:
- Please allow up to 24 hours (and sometimes 48 hours) for your latest push to git@git.bioconductor.org:packages/DMRcate.git to
reflect on this report. See How and When does the builder pull? When will my changes propagate? here for more information.
- Make sure to use the following settings in order to reproduce any error or warning you see on this page.

raw results

Package 526/2083HostnameOS / ArchINSTALLBUILDCHECKBUILD BIN
DMRcate 2.8.0  (landing page)
Tim Peters
Snapshot Date: 2021-12-05 01:55:05 -0500 (Sun, 05 Dec 2021)
git_url: https://git.bioconductor.org/packages/DMRcate
git_branch: RELEASE_3_14
git_last_commit: 984cee7
git_last_commit_date: 2021-10-26 12:12:00 -0500 (Tue, 26 Oct 2021)
nebbiolo2Linux (Ubuntu 20.04.3 LTS) / x86_64  OK    OK    WARNINGS  UNNEEDED, same version is already published
tokay2Windows Server 2012 R2 Standard / x64  OK    OK    ERROR    OK  
machv2macOS 10.14.6 Mojave / x86_64  OK    OK    ERROR    OK  

Summary

Package: DMRcate
Version: 2.8.0
Command: rm -rf DMRcate.buildbin-libdir && mkdir DMRcate.buildbin-libdir && /Users/biocbuild/BBS/utils/build-universal.sh DMRcate_2.8.0.tar.gz /Library/Frameworks/R.framework/Resources/bin/R DMRcate.buildbin-libdir
StartedAt: 2021-12-05 21:59:12 -0500 (Sun, 05 Dec 2021)
EndedAt: 2021-12-05 22:00:20 -0500 (Sun, 05 Dec 2021)
EllapsedTime: 68.5 seconds
RetCode: 0
Status:   OK  
PackageFile: DMRcate_2.8.0.tgz
PackageFileSize: 773.9 KiB

Command output

##############################################################################
##############################################################################
###
### Running command:
###
###   rm -rf DMRcate.buildbin-libdir && mkdir DMRcate.buildbin-libdir && /Users/biocbuild/BBS/utils/build-universal.sh DMRcate_2.8.0.tar.gz /Library/Frameworks/R.framework/Resources/bin/R DMRcate.buildbin-libdir
###
##############################################################################
##############################################################################


>>>>>>> 
>>>>>>> INSTALLATION WITH 'R CMD INSTALL --preclean --no-multiarch --library=DMRcate.buildbin-libdir DMRcate_2.8.0.tar.gz'
>>>>>>> 

* installing *source* package ‘DMRcate’ ...
** using staged installation
** R
** inst
** byte-compile and prepare package for lazy loading
Warning: replacing previous import 'minfi::getMeth' by 'bsseq::getMeth' when loading 'DMRcate'
** help
*** installing help indices
** building package indices
** installing vignettes
** testing if installed package can be loaded from temporary location
Warning: replacing previous import 'minfi::getMeth' by 'bsseq::getMeth' when loading 'DMRcate'
** testing if installed package can be loaded from final location
Warning: replacing previous import 'minfi::getMeth' by 'bsseq::getMeth' when loading 'DMRcate'
** testing if installed package keeps a record of temporary installation path
* DONE (DMRcate)