Name | Last modified | Size | Description | |
---|---|---|---|---|
Parent Directory | - | |||
install-out.txt | 08-May-2024 00:39 | 10K | ||
install-summary.dcf | 08-May-2024 00:39 | 271 | ||
buildsrc-out.txt | 08-May-2024 00:39 | 966 | ||
buildsrc-summary.dcf | 08-May-2024 00:39 | 429 | ||
checksrc-out.txt | 08-May-2024 00:39 | 12K | ||
checksrc-summary.dcf | 08-May-2024 00:39 | 448 | ||
buildbin-out.txt | 08-May-2024 00:39 | 12K | ||
buildbin-summary.dcf | 08-May-2024 00:39 | 536 | ||