![]() | Name | Last modified | Size | Description |
---|---|---|---|---|
![]() | Parent Directory | - | ||
![]() | buildsrc-out.txt | 24-Sep-2023 00:34 | 837 | |
![]() | buildsrc-summary.dcf | 24-Sep-2023 00:34 | 409 | |
![]() | checksrc-out.txt | 24-Sep-2023 00:34 | 3.3K | |
![]() | checksrc-summary.dcf | 24-Sep-2023 00:34 | 404 | |
![]() | install-out.txt | 24-Sep-2023 00:34 | 946 | |
![]() | install-summary.dcf | 24-Sep-2023 00:34 | 254 | |