Index of /checkResults/release/bioc-LATEST/DEXSeq/raw-results/nebbiolo1

[ICO]NameLast modifiedSizeDescription

[DIR]Parent Directory  -  
[TXT]buildsrc-out.txt19-Jun-2024 06:57 802  
[   ]buildsrc-summary.dcf19-Jun-2024 06:57 415  
[TXT]checksrc-out.txt19-Jun-2024 06:57 3.8K 
[   ]checksrc-summary.dcf19-Jun-2024 06:57 410  
[TXT]install-out.txt19-Jun-2024 06:57 949  
[   ]install-summary.dcf19-Jun-2024 06:57 257