Index of /checkResults/release/bioc-LATEST/DEXSeq/raw-results/kunpeng2

[ICO]NameLast modifiedSizeDescription

[DIR]Parent Directory  -  
[   ]install-summary.dcf10-May-2024 00:40 268  
[   ]buildsrc-summary.dcf10-May-2024 00:40 426  
[   ]checksrc-summary.dcf10-May-2024 00:40 447  
[TXT]buildsrc-out.txt10-May-2024 00:40 813  
[TXT]install-out.txt10-May-2024 00:40 971  
[TXT]checksrc-out.txt10-May-2024 00:40 3.9K