Index of /checkResults/release/bioc-LATEST/DEP/raw-results/palomino4

[ICO]NameLast modifiedSizeDescription

[DIR]Parent Directory  -  
[TXT]buildbin-out.txt03-Mar-2024 01:36 1.1K 
[   ]buildbin-summary.dcf03-Mar-2024 01:36 491  
[TXT]buildsrc-out.txt03-Mar-2024 01:36 819  
[   ]buildsrc-summary.dcf03-Mar-2024 01:36 436  
[TXT]checksrc-out.txt03-Mar-2024 01:36 4.0K 
[   ]checksrc-summary.dcf03-Mar-2024 01:36 437  
[TXT]install-out.txt03-Mar-2024 01:36 1.0K 
[   ]install-summary.dcf03-Mar-2024 01:36 260