Index of /checkResults/release/bioc-LATEST/DEP/raw-results/lconway

[ICO]NameLast modifiedSizeDescription

[DIR]Parent Directory  -  
[TXT]buildbin-out.txt23-Feb-2024 01:37 1.2K 
[   ]buildbin-summary.dcf23-Feb-2024 01:37 506  
[TXT]buildsrc-out.txt23-Feb-2024 01:37 800  
[   ]buildsrc-summary.dcf23-Feb-2024 01:37 416  
[TXT]checksrc-out.txt23-Feb-2024 01:37 4.0K 
[   ]checksrc-summary.dcf23-Feb-2024 01:37 434  
[TXT]install-out.txt23-Feb-2024 01:37 1.0K 
[   ]install-summary.dcf23-Feb-2024 01:37 261