Index of /checkResults/release/bioc-LATEST/DELocal/raw-results/palomino4

[ICO]NameLast modifiedSizeDescription

[DIR]Parent Directory  -  
[TXT]buildbin-out.txt01-Mar-2024 01:36 1.1K 
[   ]buildbin-summary.dcf01-Mar-2024 01:36 512  
[TXT]buildsrc-out.txt01-Mar-2024 01:36 875  
[   ]buildsrc-summary.dcf01-Mar-2024 01:36 450  
[TXT]checksrc-out.txt01-Mar-2024 01:36 3.3K 
[   ]checksrc-summary.dcf01-Mar-2024 01:36 445  
[TXT]install-out.txt01-Mar-2024 01:36 1.0K 
[   ]install-summary.dcf01-Mar-2024 01:36 267