Name | Last modified | Size | Description | |
---|---|---|---|---|
Parent Directory | - | |||
buildbin-out.txt | 12-Jun-2024 03:42 | 1.2K | ||
buildbin-summary.dcf | 12-Jun-2024 03:42 | 527 | ||
buildsrc-out.txt | 12-Jun-2024 03:42 | 855 | ||
buildsrc-summary.dcf | 12-Jun-2024 03:42 | 425 | ||
checksrc-out.txt | 12-Jun-2024 03:42 | 3.3K | ||
checksrc-summary.dcf | 12-Jun-2024 03:42 | 442 | ||
install-out.txt | 12-Jun-2024 03:42 | 1.0K | ||
install-summary.dcf | 12-Jun-2024 03:42 | 268 | ||