Index of /checkResults/release/bioc-LATEST/DEGraph/raw-results
Name
Last modified
Size
Description
Parent Directory
-
info.dcf
03-May-2024 00:35
275
nebbiolo1/
03-May-2024 00:37
-
kunpeng2/
03-May-2024 00:41
-