Index of /checkResults/release/bioc-LATEST/DEGraph/raw-results

[ICO]NameLast modifiedSizeDescription

[DIR]Parent Directory  -  
[   ]info.dcf04-Dec-2021 03:04 275  
[DIR]nebbiolo2/04-Dec-2021 03:04 -