Name | Last modified | Size | Description | |
---|---|---|---|---|
Parent Directory | - | |||
install-summary.dcf | 17-Jul-2024 06:39 | 272 | ||
install-out.txt | 17-Jul-2024 06:39 | 1.1K | ||
checksrc-summary.dcf | 17-Jul-2024 06:39 | 455 | ||
checksrc-out.txt | 17-Jul-2024 06:39 | 3.1K | ||
buildsrc-summary.dcf | 17-Jul-2024 06:39 | 460 | ||
buildsrc-out.txt | 17-Jul-2024 06:39 | 849 | ||
buildbin-summary.dcf | 17-Jul-2024 06:39 | 525 | ||
buildbin-out.txt | 17-Jul-2024 06:39 | 1.2K | ||