Name | Last modified | Size | Description | |
---|---|---|---|---|
Parent Directory | - | |||
install-summary.dcf | 24-Jul-2024 22:04 | 263 | ||
install-out.txt | 24-Jul-2024 22:04 | 956 | ||
checksrc-summary.dcf | 24-Jul-2024 22:04 | 437 | ||
checksrc-out.txt | 24-Jul-2024 22:04 | 3.9K | ||
buildsrc-summary.dcf | 24-Jul-2024 22:04 | 442 | ||
buildsrc-out.txt | 24-Jul-2024 22:04 | 888 | ||
buildbin-summary.dcf | 24-Jul-2024 22:04 | 500 | ||
buildbin-out.txt | 24-Jul-2024 22:04 | 1.1K | ||