Name | Last modified | Size | Description | |
---|---|---|---|---|
Parent Directory | - | |||
install-summary.dcf | 24-Jul-2024 22:05 | 264 | ||
install-out.txt | 24-Jul-2024 22:05 | 1.0K | ||
checksrc-summary.dcf | 24-Jul-2024 22:05 | 434 | ||
checksrc-out.txt | 24-Jul-2024 22:05 | 4.0K | ||
buildsrc-summary.dcf | 24-Jul-2024 22:05 | 419 | ||
buildsrc-out.txt | 24-Jul-2024 22:05 | 870 | ||
buildbin-summary.dcf | 24-Jul-2024 22:05 | 515 | ||
buildbin-out.txt | 24-Jul-2024 22:05 | 1.1K | ||