Index of /checkResults/release/bioc-LATEST/DART/raw-results/nebbiolo2

[ICO]NameLast modifiedSizeDescription

[DIR]Parent Directory  -  
[TXT]buildsrc-out.txt03-Mar-2024 01:35 857  
[   ]buildsrc-summary.dcf03-Mar-2024 01:35 408  
[TXT]checksrc-out.txt03-Mar-2024 01:35 3.9K 
[   ]checksrc-summary.dcf03-Mar-2024 01:35 401  
[TXT]install-out.txt03-Mar-2024 01:35 951  
[   ]install-summary.dcf03-Mar-2024 01:35 253