Index of /checkResults/release/bioc-LATEST/DAPAR/raw-results/lconway

[ICO]NameLast modifiedSizeDescription

[DIR]Parent Directory  -  
[TXT]buildbin-out.txt23-May-2024 00:36 849  
[   ]buildbin-summary.dcf23-May-2024 00:36 438  
[TXT]buildsrc-out.txt23-May-2024 00:36 736  
[   ]buildsrc-summary.dcf23-May-2024 00:36 420  
[TXT]checksrc-out.txt23-May-2024 00:36 1.4K 
[   ]checksrc-summary.dcf23-May-2024 00:36 438  
[TXT]install-out.txt23-May-2024 00:36 689  
[   ]install-summary.dcf23-May-2024 00:36 267