Back to Multiple platform build/check report for BioC 3.17:   simplified   long
ABC[D]EFGHIJKLMNOPQRSTUVWXYZ

This page was generated on 2023-10-04 11:36:21 -0400 (Wed, 04 Oct 2023).

HostnameOSArch (*)R versionInstalled pkgs
nebbiolo1Linux (Ubuntu 22.04.2 LTS)x86_644.3.1 (2023-06-16) -- "Beagle Scouts" 4626
palomino3Windows Server 2022 Datacenterx644.3.1 (2023-06-16 ucrt) -- "Beagle Scouts" 4379
merida1macOS 12.6.4 Montereyx86_644.3.1 (2023-06-16) -- "Beagle Scouts" 4395
Click on any hostname to see more info about the system (e.g. compilers)      (*) as reported by 'uname -p', except on Windows and Mac OS X

Package 494/2230HostnameOS / ArchINSTALLBUILDCHECKBUILD BIN
DAPAR 1.32.5  (landing page)
Samuel Wieczorek
Snapshot Date: 2023-10-03 14:00:15 -0400 (Tue, 03 Oct 2023)
git_url: https://git.bioconductor.org/packages/DAPAR
git_branch: RELEASE_3_17
git_last_commit: bc2208b
git_last_commit_date: 2023-09-08 04:48:22 -0400 (Fri, 08 Sep 2023)
nebbiolo1Linux (Ubuntu 22.04.2 LTS) / x86_64  OK    OK    OK  UNNEEDED, same version is already published
palomino3Windows Server 2022 Datacenter / x64  OK    OK    OK    OK  UNNEEDED, same version is already published
merida1macOS 12.6.4 Monterey / x86_64  OK    OK    OK    OK  UNNEEDED, same version is already published

CHECK results for DAPAR on palomino3


To the developers/maintainers of the DAPAR package:
- Allow up to 24 hours (and sometimes 48 hours) for your latest push to git@git.bioconductor.org:packages/DAPAR.git to reflect on this report. See Troubleshooting Build Report for more information.
- Use the following Renviron settings to reproduce errors and warnings.
- If 'R CMD check' started to fail recently on the Linux builder(s) over a missing dependency, add the missing dependency to 'Suggests:' in your DESCRIPTION file. See Renviron.bioc for more information.

raw results


Summary

Package: DAPAR
Version: 1.32.5
Command: F:\biocbuild\bbs-3.17-bioc\R\bin\R.exe CMD check --no-multiarch --install=check:DAPAR.install-out.txt --library=F:\biocbuild\bbs-3.17-bioc\R\library --no-vignettes --timings DAPAR_1.32.5.tar.gz
StartedAt: 2023-10-04 01:16:38 -0400 (Wed, 04 Oct 2023)
EndedAt: 2023-10-04 01:22:55 -0400 (Wed, 04 Oct 2023)
EllapsedTime: 377.2 seconds
RetCode: 0
Status:   OK  
CheckDir: DAPAR.Rcheck
Warnings: 0

Command output

##############################################################################
##############################################################################
###
### Running command:
###
###   F:\biocbuild\bbs-3.17-bioc\R\bin\R.exe CMD check --no-multiarch --install=check:DAPAR.install-out.txt --library=F:\biocbuild\bbs-3.17-bioc\R\library --no-vignettes --timings DAPAR_1.32.5.tar.gz
###
##############################################################################
##############################################################################


* using log directory 'F:/biocbuild/bbs-3.17-bioc/meat/DAPAR.Rcheck'
* using R version 4.3.1 (2023-06-16 ucrt)
* using platform: x86_64-w64-mingw32 (64-bit)
* R was compiled by
    gcc.exe (GCC) 12.2.0
    GNU Fortran (GCC) 12.2.0
* running under: Windows Server 2022 x64 (build 20348)
* using session charset: UTF-8
* using option '--no-vignettes'
* checking for file 'DAPAR/DESCRIPTION' ... OK
* checking extension type ... Package
* this is package 'DAPAR' version '1.32.5'
* package encoding: UTF-8
* checking package namespace information ... OK
* checking package dependencies ... OK
* checking if this is a source package ... OK
* checking if there is a namespace ... OK
* checking for hidden files and directories ... OK
* checking for portable file names ... OK
* checking whether package 'DAPAR' can be installed ... OK
* checking installed package size ... OK
* checking package directory ... OK
* checking DESCRIPTION meta-information ... OK
* checking top-level files ... OK
* checking for left-over files ... OK
* checking index information ... OK
* checking package subdirectories ... OK
* checking R files for non-ASCII characters ... OK
* checking R files for syntax errors ... OK
* checking whether the package can be loaded ... OK
* checking whether the package can be loaded with stated dependencies ... OK
* checking whether the package can be unloaded cleanly ... OK
* checking whether the namespace can be loaded with stated dependencies ... OK
* checking whether the namespace can be unloaded cleanly ... OK
* checking startup messages can be suppressed ... OK
* checking dependencies in R code ... OK
* checking S3 generic/method consistency ... OK
* checking replacement functions ... OK
* checking foreign function calls ... OK
* checking R code for possible problems ... NOTE
OWAnova: no visible global function definition for 'aov'
aggregateIterParallel: no visible binding for global variable 'cond'
averageIntensities: no visible binding for global variable 'condition'
averageIntensities: no visible binding for global variable 'feature'
averageIntensities: no visible binding for global variable 'intensity'
createMSnset: no visible global function definition for
  'installed.packages'
createMSnset: no visible binding for global variable 'Prostar.loc'
diffAnaVolcanoplot_rCharts: no visible binding for global variable 'x'
diffAnaVolcanoplot_rCharts: no visible binding for global variable 'y'
diffAnaVolcanoplot_rCharts: no visible binding for global variable 'g'
display.CC.visNet: no visible binding for global variable
  'layout_nicely'
getTextForGOAnalysis: no visible binding for global variable
  'textGOParams'
getTextForGOAnalysis: no visible binding for global variable 'input'
globalAdjPval: no visible global function definition for 'stack'
heatmapForMissingValues: no visible binding for global variable 'par'
limmaCompleteTest: no visible binding for global variable 'A'
limmaCompleteTest: no visible binding for global variable 'B'
limmaCompleteTest: no visible binding for global variable 'P.Value'
pepa.test: no visible global function definition for 'nodes<-'
visualizeClusters: no visible binding for global variable
  'adjusted_pvalues'
visualizeClusters: no visible binding for global variable 'Condition'
visualizeClusters: no visible binding for global variable 'Intensity'
visualizeClusters: no visible binding for global variable
  'FDR_threshold'
visualizeClusters: no visible binding for global variable 'feature'
wrapperClassic1wayAnova: no visible binding for global variable
  'Pr(>F)1'
wrapperRunClustering: no visible global function definition for 'str_c'
writeMSnsetToExcel: no visible global function definition for
  'installed.packages'
Undefined global functions or variables:
  A B Condition FDR_threshold Intensity P.Value Pr(>F)1 Prostar.loc
  adjusted_pvalues aov cond condition feature g input
  installed.packages intensity layout_nicely nodes<- par stack str_c
  textGOParams x y
Consider adding
  importFrom("graphics", "par")
  importFrom("stats", "aov")
  importFrom("utils", "installed.packages", "stack")
to your NAMESPACE file.
* checking Rd files ... OK
* checking Rd metadata ... OK
* checking Rd cross-references ... OK
* checking for missing documentation entries ... OK
* checking for code/documentation mismatches ... OK
* checking Rd \usage sections ... OK
* checking Rd contents ... OK
* checking for unstated dependencies in examples ... OK
* checking examples ... OK
Examples with CPU (user + system) or elapsed time > 5s
                                  user system elapsed
wrapper.compareNormalizationD_HC 27.64   0.92   28.64
wrapper.dapar.impute.mi          25.63   0.38   26.07
barplotEnrichGO_HC                8.45   0.79    9.26
writeMSnsetToExcel                3.50   1.91   27.60
enrich_GO                         5.14   0.22    5.36
CVDistD_HC                        2.58   0.36    5.34
* checking for unstated dependencies in 'tests' ... OK
* checking tests ...
  Running 'testthat.R'
 OK
* checking PDF version of manual ... OK
* DONE

Status: 1 NOTE
See
  'F:/biocbuild/bbs-3.17-bioc/meat/DAPAR.Rcheck/00check.log'
for details.



Installation output

DAPAR.Rcheck/00install.out

##############################################################################
##############################################################################
###
### Running command:
###
###   F:\biocbuild\bbs-3.17-bioc\R\bin\R.exe CMD INSTALL DAPAR
###
##############################################################################
##############################################################################


* installing to library 'F:/biocbuild/bbs-3.17-bioc/R/library'
* installing *source* package 'DAPAR' ...
** using staged installation
** R
** inst
** byte-compile and prepare package for lazy loading
** help
*** installing help indices
** building package indices
** testing if installed package can be loaded from temporary location
** testing if installed package can be loaded from final location
** testing if installed package keeps a record of temporary installation path
* DONE (DAPAR)

Tests output

DAPAR.Rcheck/tests/testthat.Rout


R version 4.3.1 (2023-06-16 ucrt) -- "Beagle Scouts"
Copyright (C) 2023 The R Foundation for Statistical Computing
Platform: x86_64-w64-mingw32/x64 (64-bit)

R is free software and comes with ABSOLUTELY NO WARRANTY.
You are welcome to redistribute it under certain conditions.
Type 'license()' or 'licence()' for distribution details.

R is a collaborative project with many contributors.
Type 'contributors()' for more information and
'citation()' on how to cite R or R packages in publications.

Type 'demo()' for some demos, 'help()' for on-line help, or
'help.start()' for an HTML browser interface to help.
Type 'q()' to quit R.

> library(testthat)
> library(DAPAR)

This is the 'DAPAR' version 1.32.5.

  To get started, visit
    http://www.prostar-proteomics.org/


> 
> test_check("DAPAR")

 Iterations: 

 1 / 1  - Imputation MNAR OK - 
Imputation MCAR in progress - 
3 % - 6 % - 9 % - 12 % - 15 % - 18 % - 21 % - 24 % - 27 % - 30 % - 33 % - 36 % - 39 % - 42 % - 45 % - 48 % - 51 % - 54 % - 57 % - 60 % - 63 % - 66 % - 69 % - 72 % - 75 % - 78 % - 81 % - 84 % - 87 % - 90 % - 93 % - 96 % - 99 % - 
 Iterations: 

 1 / 1  - Imputation MNAR OK - 
Imputation MCAR in progress - 
3 % - 6 % - 9 % - 12 % - 15 % - 18 % - 21 % - 24 % - 27 % - 30 % - 33 % - 36 % - 39 % - 42 % - 45 % - 48 % - 51 % - 54 % - 57 % - 60 % - 63 % - 66 % - 69 % - 72 % - 75 % - 78 % - 81 % - 84 % - 87 % - 90 % - 93 % - 96 % - 99 % - 
 Imputation in condition  1 ...
 In progress: 10 % - 20 % - 30 % - 40 % - 50 % - 60 % - 70 % - 80 % - 90 % - 100 % - 
 Imputation in condition  2 ...
 In progress: 10 % - 20 % - 30 % - 40 % - 50 % - 60 % - 70 % - 80 % - 90 % - 100 % - [ FAIL 0 | WARN 17 | SKIP 0 | PASS 66 ]

[ FAIL 0 | WARN 17 | SKIP 0 | PASS 66 ]
> 
> proc.time()
   user  system elapsed 
  36.60    1.07   38.15 

Example timings

DAPAR.Rcheck/DAPAR-Ex.timings

nameusersystemelapsed
AggregateMetacell1.530.071.61
BuildAdjacencyMatrix0.270.000.26
BuildColumnToProteinDataset0.380.000.39
BuildMetaCell1.030.011.08
CVDistD_HC2.580.365.34
Children0.010.000.02
CountPep0.270.000.26
ExtendPalette0.030.000.03
GOAnalysisSave000
GetCC1.360.001.36
GetColorsForConditions0.220.000.22
GetDetailedNbPeptides0.250.000.25
GetDetailedNbPeptidesUsed000
GetIndices_BasedOnConditions0.220.000.22
GetIndices_MetacellFiltering0.220.020.23
GetIndices_WholeLine0.200.010.22
GetIndices_WholeMatrix0.220.020.23
GetKeyId0.220.010.24
GetMatAdj0.240.020.25
GetMetacell000
GetMetacellTags0.230.000.23
GetNbPeptidesUsed0.230.000.24
GetSoftAvailables000
GetTypeofData0.210.020.21
Get_AllComparisons0.200.000.22
GlobalQuantileAlignment0.230.000.24
GraphPepProt0.220.010.23
LH0000
LH0.lm000
LH1000
LH1.lm000
LOESS0.830.020.85
MeanCentering0.250.000.25
MetaCellFiltering0.350.010.36
MetacellFilteringScope000
Metacell_DIA_NN0.480.030.52
Metacell_generic0.450.030.48
Metacell_maxquant0.50.00.5
Metacell_proline0.550.000.55
NumericalFiltering0.300.000.29
NumericalgetIndicesOfLinesToRemove0.280.020.30
OWAnova000
QuantileCentering0.230.020.25
SetCC1.370.001.38
SetMatAdj0.280.000.28
Set_POV_MEC_tags0.250.000.25
StringBasedFiltering0.250.000.25
StringBasedFiltering20.270.010.28
SumByColumns1.030.101.13
SymFilteringOperators000
UpdateMetacellAfterImputation0.280.000.29
aggregateIter0.380.000.38
aggregateIterParallel000
aggregateMean0.300.030.33
aggregateSum0.370.000.38
aggregateTopn0.330.010.34
applyAnovasOnProteins0.080.000.08
averageIntensities0.470.070.53
barplotEnrichGO_HC8.450.799.26
barplotGroupGO_HC4.470.444.93
boxPlotD_HC0.190.090.31
buildGraph1.160.001.16
check.conditions0.210.020.23
check.design0.190.000.19
checkClusterability2.120.062.22
classic1wayAnova000
compareNormalizationD_HC0.130.110.25
compute.selection.table0.680.060.77
compute_t_tests0.990.000.98
corrMatrixD_HC0.290.130.43
createMSnset1.790.081.88
dapar_hc_ExportMenu0.210.280.73
dapar_hc_chart0.060.090.16
deleteLinesFromIndices0.300.020.31
densityPlotD_HC1.620.311.96
diffAnaComputeFDR0.190.000.18
diffAnaGetSignificant0.170.000.18
diffAnaSave0.160.000.15
diffAnaVolcanoplot0.090.020.11
diffAnaVolcanoplot_rCharts0.300.140.44
display.CC.visNet1.140.042.09
enrich_GO5.140.225.36
finalizeAggregation000
findMECBlock0.250.000.25
formatHSDResults000
formatLimmaResult0.110.000.11
formatPHResults000
formatPHTResults000
fudge2LRT000
get.pep.prot.cc1.100.001.09
getIndicesConditions0.250.000.25
getIndicesOfLinesToRemove0.220.000.22
getListNbValuesInLines0.20.00.2
getNumberOf0.220.000.22
getNumberOfEmptyLines0.230.000.24
getPourcentageOfMV0.190.030.21
getProcessingInfo0.200.000.21
getProteinsStats0.220.000.22
getQuantile4Imp0.050.000.04
getTextForAggregation000
getTextForAnaDiff000
getTextForFiltering000
getTextForGOAnalysis000
getTextForHypothesisTest0.010.000.02
getTextForNewDataset000
getTextForNormalization000
getTextForpeptideImputation000
getTextForproteinImputation000
globalAdjPval0.360.000.36
group_GO4.130.184.31
hc_logFC_DensityPlot0.390.090.52
hc_mvTypePlot20.640.140.78
heatmapD0.560.020.58
heatmapForMissingValues0.140.000.14
histPValue_HC0.150.140.29
impute.pa20.410.020.43
inner.aggregate.iter0.250.000.25
inner.aggregate.topn0.230.000.24
inner.mean0.250.000.25
inner.sum0.240.000.23
is.subset000
limmaCompleteTest101
listSheets000
make.contrast0.220.020.23
make.design.10.250.000.25
make.design.20.240.000.23
make.design.30.230.000.24
make.design0.240.000.23
match.metacell0.290.000.30
metacell.def000
metacellHisto_HC0.390.110.50
metacellPerLinesHistoPerCondition_HC0.440.220.67
metacellPerLinesHisto_HC0.530.561.16
metacombine0.050.000.05
mvImage1.700.081.78
my_hc_ExportMenu0.160.270.56
my_hc_chart0.160.250.57
nonzero0.010.010.03
normalizeMethods.dapar000
pepa.test0.290.000.30
pkgs.require000
plotJitter1.190.021.20
plotJitter_rCharts1.140.111.29
plotPCA_Eigen0.360.080.43
plotPCA_Eigen_hc0.200.000.21
plotPCA_Ind0.240.000.23
plotPCA_Var0.20.00.2
postHocTest000
proportionConRev_HC0.060.060.21
rbindMSnset0.270.020.28
reIntroduceMEC0.270.000.26
readExcel000
removeLines0.250.000.25
samLRT000
saveParameters0.250.000.25
scatterplotEnrichGO_HC4.430.214.66
search.metacell.tags000
separateAdjPval0.210.000.20
splitAdjacencyMat0.280.000.29
test.design0.220.000.21
testAnovaModels0.080.000.08
thresholdpval4fdr000
translatedRandomBeta000
univ_AnnotDbPkg0.130.070.19
violinPlotD0.180.040.23
visualizeClusters1.220.051.27
vsn0.600.020.60
wrapper.CVDistD_HC2.170.112.30
wrapper.compareNormalizationD_HC27.64 0.9228.64
wrapper.corrMatrixD_HC0.370.140.54
wrapper.dapar.impute.mi25.63 0.3826.07
wrapper.heatmapD0.400.030.43
wrapper.impute.KNN0.250.000.25
wrapper.impute.detQuant0.270.000.27
wrapper.impute.fixedValue0.270.000.27
wrapper.impute.mle0.260.000.26
wrapper.impute.pa0.080.000.08
wrapper.impute.pa20.250.000.25
wrapper.impute.slsa0.340.020.36
wrapper.mvImage0.100.000.09
wrapper.normalizeD0.260.000.27
wrapper.pca0.130.000.12
wrapperCalibrationPlot0.120.000.12
wrapperClassic1wayAnova000
wrapperRunClustering1.750.021.79
write.excel0.550.060.65
writeMSnsetToCSV0.280.010.45
writeMSnsetToExcel 3.50 1.9127.60