Back to Multiple platform build/check report for BioC 3.17:   simplified   long
ABC[D]EFGHIJKLMNOPQRSTUVWXYZ

This page was generated on 2023-10-04 11:35:35 -0400 (Wed, 04 Oct 2023).

HostnameOSArch (*)R versionInstalled pkgs
nebbiolo1Linux (Ubuntu 22.04.2 LTS)x86_644.3.1 (2023-06-16) -- "Beagle Scouts" 4626
palomino3Windows Server 2022 Datacenterx644.3.1 (2023-06-16 ucrt) -- "Beagle Scouts" 4379
merida1macOS 12.6.4 Montereyx86_644.3.1 (2023-06-16) -- "Beagle Scouts" 4395
Click on any hostname to see more info about the system (e.g. compilers)      (*) as reported by 'uname -p', except on Windows and Mac OS X

Package 494/2230HostnameOS / ArchINSTALLBUILDCHECKBUILD BIN
DAPAR 1.32.5  (landing page)
Samuel Wieczorek
Snapshot Date: 2023-10-03 14:00:15 -0400 (Tue, 03 Oct 2023)
git_url: https://git.bioconductor.org/packages/DAPAR
git_branch: RELEASE_3_17
git_last_commit: bc2208b
git_last_commit_date: 2023-09-08 04:48:22 -0400 (Fri, 08 Sep 2023)
nebbiolo1Linux (Ubuntu 22.04.2 LTS) / x86_64  OK    OK    OK  UNNEEDED, same version is already published
palomino3Windows Server 2022 Datacenter / x64  OK    OK    OK    OK  UNNEEDED, same version is already published
merida1macOS 12.6.4 Monterey / x86_64  OK    OK    OK    OK  UNNEEDED, same version is already published

CHECK results for DAPAR on nebbiolo1


To the developers/maintainers of the DAPAR package:
- Allow up to 24 hours (and sometimes 48 hours) for your latest push to git@git.bioconductor.org:packages/DAPAR.git to reflect on this report. See Troubleshooting Build Report for more information.
- Use the following Renviron settings to reproduce errors and warnings.
- If 'R CMD check' started to fail recently on the Linux builder(s) over a missing dependency, add the missing dependency to 'Suggests:' in your DESCRIPTION file. See Renviron.bioc for more information.

raw results


Summary

Package: DAPAR
Version: 1.32.5
Command: /home/biocbuild/bbs-3.17-bioc/R/bin/R CMD check --install=check:DAPAR.install-out.txt --library=/home/biocbuild/bbs-3.17-bioc/R/site-library --timings DAPAR_1.32.5.tar.gz
StartedAt: 2023-10-03 20:36:15 -0400 (Tue, 03 Oct 2023)
EndedAt: 2023-10-03 20:41:14 -0400 (Tue, 03 Oct 2023)
EllapsedTime: 298.9 seconds
RetCode: 0
Status:   OK  
CheckDir: DAPAR.Rcheck
Warnings: 0

Command output

##############################################################################
##############################################################################
###
### Running command:
###
###   /home/biocbuild/bbs-3.17-bioc/R/bin/R CMD check --install=check:DAPAR.install-out.txt --library=/home/biocbuild/bbs-3.17-bioc/R/site-library --timings DAPAR_1.32.5.tar.gz
###
##############################################################################
##############################################################################


* using log directory ‘/home/biocbuild/bbs-3.17-bioc/meat/DAPAR.Rcheck’
* using R version 4.3.1 (2023-06-16)
* using platform: x86_64-pc-linux-gnu (64-bit)
* R was compiled by
    gcc (Ubuntu 11.3.0-1ubuntu1~22.04.1) 11.3.0
    GNU Fortran (Ubuntu 11.3.0-1ubuntu1~22.04.1) 11.3.0
* running under: Ubuntu 22.04.3 LTS
* using session charset: UTF-8
* checking for file ‘DAPAR/DESCRIPTION’ ... OK
* checking extension type ... Package
* this is package ‘DAPAR’ version ‘1.32.5’
* package encoding: UTF-8
* checking package namespace information ... OK
* checking package dependencies ... OK
* checking if this is a source package ... OK
* checking if there is a namespace ... OK
* checking for hidden files and directories ... OK
* checking for portable file names ... OK
* checking for sufficient/correct file permissions ... OK
* checking whether package ‘DAPAR’ can be installed ... OK
* checking installed package size ... OK
* checking package directory ... OK
* checking DESCRIPTION meta-information ... OK
* checking top-level files ... OK
* checking for left-over files ... OK
* checking index information ... OK
* checking package subdirectories ... OK
* checking R files for non-ASCII characters ... OK
* checking R files for syntax errors ... OK
* checking whether the package can be loaded ... OK
* checking whether the package can be loaded with stated dependencies ... OK
* checking whether the package can be unloaded cleanly ... OK
* checking whether the namespace can be loaded with stated dependencies ... OK
* checking whether the namespace can be unloaded cleanly ... OK
* checking loading without being on the library search path ... OK
* checking startup messages can be suppressed ... OK
* checking dependencies in R code ... OK
* checking S3 generic/method consistency ... OK
* checking replacement functions ... OK
* checking foreign function calls ... OK
* checking R code for possible problems ... NOTE
OWAnova: no visible global function definition for ‘aov’
aggregateIterParallel: no visible binding for global variable ‘cond’
averageIntensities: no visible binding for global variable ‘condition’
averageIntensities: no visible binding for global variable ‘feature’
averageIntensities: no visible binding for global variable ‘intensity’
createMSnset: no visible global function definition for
  ‘installed.packages’
createMSnset: no visible binding for global variable ‘Prostar.loc’
diffAnaVolcanoplot_rCharts: no visible binding for global variable ‘x’
diffAnaVolcanoplot_rCharts: no visible binding for global variable ‘y’
diffAnaVolcanoplot_rCharts: no visible binding for global variable ‘g’
display.CC.visNet: no visible binding for global variable
  ‘layout_nicely’
getTextForGOAnalysis: no visible binding for global variable
  ‘textGOParams’
getTextForGOAnalysis: no visible binding for global variable ‘input’
globalAdjPval: no visible global function definition for ‘stack’
heatmapForMissingValues: no visible binding for global variable ‘par’
limmaCompleteTest: no visible binding for global variable ‘A’
limmaCompleteTest: no visible binding for global variable ‘B’
limmaCompleteTest: no visible binding for global variable ‘P.Value’
pepa.test: no visible global function definition for ‘nodes<-’
visualizeClusters: no visible binding for global variable
  ‘adjusted_pvalues’
visualizeClusters: no visible binding for global variable ‘Condition’
visualizeClusters: no visible binding for global variable ‘Intensity’
visualizeClusters: no visible binding for global variable
  ‘FDR_threshold’
visualizeClusters: no visible binding for global variable ‘feature’
wrapperClassic1wayAnova: no visible binding for global variable
  ‘Pr(>F)1’
wrapperRunClustering: no visible global function definition for ‘str_c’
writeMSnsetToExcel: no visible global function definition for
  ‘installed.packages’
Undefined global functions or variables:
  A B Condition FDR_threshold Intensity P.Value Pr(>F)1 Prostar.loc
  adjusted_pvalues aov cond condition feature g input
  installed.packages intensity layout_nicely nodes<- par stack str_c
  textGOParams x y
Consider adding
  importFrom("graphics", "par")
  importFrom("stats", "aov")
  importFrom("utils", "installed.packages", "stack")
to your NAMESPACE file.
* checking Rd files ... OK
* checking Rd metadata ... OK
* checking Rd cross-references ... OK
* checking for missing documentation entries ... OK
* checking for code/documentation mismatches ... OK
* checking Rd \usage sections ... OK
* checking Rd contents ... OK
* checking for unstated dependencies in examples ... OK
* checking examples ... OK
Examples with CPU (user + system) or elapsed time > 5s
                                   user system elapsed
wrapper.compareNormalizationD_HC 27.288  1.620  28.909
wrapper.dapar.impute.mi          12.243  0.132  12.376
barplotEnrichGO_HC                8.483  0.552   9.036
* checking for unstated dependencies in ‘tests’ ... OK
* checking tests ...
  Running ‘testthat.R’
 OK
* checking PDF version of manual ... OK
* DONE

Status: 1 NOTE
See
  ‘/home/biocbuild/bbs-3.17-bioc/meat/DAPAR.Rcheck/00check.log’
for details.



Installation output

DAPAR.Rcheck/00install.out

##############################################################################
##############################################################################
###
### Running command:
###
###   /home/biocbuild/bbs-3.17-bioc/R/bin/R CMD INSTALL DAPAR
###
##############################################################################
##############################################################################


* installing to library ‘/home/biocbuild/bbs-3.17-bioc/R/site-library’
* installing *source* package ‘DAPAR’ ...
** using staged installation
** R
** inst
** byte-compile and prepare package for lazy loading
** help
*** installing help indices
** building package indices
** testing if installed package can be loaded from temporary location
** testing if installed package can be loaded from final location
** testing if installed package keeps a record of temporary installation path
* DONE (DAPAR)

Tests output

DAPAR.Rcheck/tests/testthat.Rout


R version 4.3.1 (2023-06-16) -- "Beagle Scouts"
Copyright (C) 2023 The R Foundation for Statistical Computing
Platform: x86_64-pc-linux-gnu (64-bit)

R is free software and comes with ABSOLUTELY NO WARRANTY.
You are welcome to redistribute it under certain conditions.
Type 'license()' or 'licence()' for distribution details.

R is a collaborative project with many contributors.
Type 'contributors()' for more information and
'citation()' on how to cite R or R packages in publications.

Type 'demo()' for some demos, 'help()' for on-line help, or
'help.start()' for an HTML browser interface to help.
Type 'q()' to quit R.

> library(testthat)
> library(DAPAR)

This is the 'DAPAR' version 1.32.5.

  To get started, visit
    http://www.prostar-proteomics.org/


> 
> test_check("DAPAR")

 Iterations: 

 1 / 1  - Imputation MNAR OK - 
Imputation MCAR in progress - 
3 % - 6 % - 9 % - 12 % - 15 % - 18 % - 21 % - 24 % - 27 % - 30 % - 33 % - 36 % - 39 % - 42 % - 45 % - 48 % - 51 % - 54 % - 57 % - 60 % - 63 % - 66 % - 69 % - 72 % - 75 % - 78 % - 81 % - 84 % - 87 % - 90 % - 93 % - 96 % - 99 % - 
 Iterations: 

 1 / 1  - Imputation MNAR OK - 
Imputation MCAR in progress - 
3 % - 6 % - 9 % - 12 % - 15 % - 18 % - 21 % - 24 % - 27 % - 30 % - 33 % - 36 % - 39 % - 42 % - 45 % - 48 % - 51 % - 54 % - 57 % - 60 % - 63 % - 66 % - 69 % - 72 % - 75 % - 78 % - 81 % - 84 % - 87 % - 90 % - 93 % - 96 % - 99 % - 
 Imputation in condition  1 ...
 In progress: 10 % - 20 % - 30 % - 40 % - 50 % - 60 % - 70 % - 80 % - 90 % - 100 % - 
 Imputation in condition  2 ...
 In progress: 10 % - 20 % - 30 % - 40 % - 50 % - 60 % - 70 % - 80 % - 90 % - 100 % - [ FAIL 0 | WARN 17 | SKIP 0 | PASS 66 ]

[ FAIL 0 | WARN 17 | SKIP 0 | PASS 66 ]
> 
> proc.time()
   user  system elapsed 
 22.655   0.709  23.355 

Example timings

DAPAR.Rcheck/DAPAR-Ex.timings

nameusersystemelapsed
AggregateMetacell1.9360.1232.061
BuildAdjacencyMatrix0.3290.0280.358
BuildColumnToProteinDataset0.4480.0440.492
BuildMetaCell1.0670.0641.133
CVDistD_HC2.8940.1643.066
Children0.0050.0000.005
CountPep0.3500.0080.357
ExtendPalette0.0290.0000.028
GOAnalysisSave0.0010.0000.000
GetCC1.5350.0601.594
GetColorsForConditions0.2920.0120.304
GetDetailedNbPeptides0.3310.0000.331
GetDetailedNbPeptidesUsed0.0010.0000.000
GetIndices_BasedOnConditions0.3140.0040.318
GetIndices_MetacellFiltering0.3260.0000.326
GetIndices_WholeLine0.3090.0040.312
GetIndices_WholeMatrix0.3230.0080.331
GetKeyId0.3150.0160.331
GetMatAdj0.3530.0040.356
GetMetacell000
GetMetacellTags0.3150.0000.315
GetNbPeptidesUsed0.3090.0040.314
GetSoftAvailables0.0010.0000.001
GetTypeofData0.3010.0000.301
Get_AllComparisons0.2280.0090.237
GlobalQuantileAlignment0.3290.0000.329
GraphPepProt0.3170.0060.323
LH00.0000.0010.000
LH0.lm000
LH10.0000.0000.001
LH1.lm000
LOESS1.0390.0201.059
MeanCentering0.3170.0000.318
MetaCellFiltering0.4490.0040.452
MetacellFilteringScope000
Metacell_DIA_NN0.4200.0120.432
Metacell_generic0.4380.0120.450
Metacell_maxquant0.4040.0080.412
Metacell_proline0.4180.0040.422
NumericalFiltering0.3730.0040.377
NumericalgetIndicesOfLinesToRemove0.4080.0000.410
OWAnova0.0090.0000.009
QuantileCentering0.3190.0080.327
SetCC1.3550.0631.419
SetMatAdj0.3390.0010.339
Set_POV_MEC_tags0.3110.0040.315
StringBasedFiltering0.3400.0150.356
StringBasedFiltering20.3460.0010.346
SumByColumns1.1540.0111.166
SymFilteringOperators000
UpdateMetacellAfterImputation0.3310.0000.331
aggregateIter0.4760.0030.480
aggregateIterParallel000
aggregateMean0.4190.0120.431
aggregateSum0.3930.0190.413
aggregateTopn0.3700.0090.378
applyAnovasOnProteins0.0890.0000.089
averageIntensities0.4420.0390.483
barplotEnrichGO_HC8.4830.5529.036
barplotGroupGO_HC4.5920.1834.776
boxPlotD_HC0.1910.0070.198
buildGraph1.2060.0281.234
check.conditions0.30.00.3
check.design0.3140.0010.314
checkClusterability2.0660.1362.202
classic1wayAnova0.0000.0010.000
compareNormalizationD_HC0.1150.0060.122
compute.selection.table0.5850.0430.629
compute_t_tests0.9680.0080.976
corrMatrixD_HC0.3670.0080.375
createMSnset2.3480.1042.451
dapar_hc_ExportMenu0.1050.0200.129
dapar_hc_chart0.0440.0080.052
deleteLinesFromIndices0.3180.0040.323
densityPlotD_HC1.7600.0841.844
diffAnaComputeFDR0.1200.0000.121
diffAnaGetSignificant0.1840.0000.185
diffAnaSave0.1730.0080.182
diffAnaVolcanoplot0.1210.0010.122
diffAnaVolcanoplot_rCharts0.2680.0150.283
display.CC.visNet1.1000.0481.149
enrich_GO4.1920.1644.357
finalizeAggregation0.0000.0000.001
findMECBlock0.3090.0120.321
formatHSDResults000
formatLimmaResult0.1060.0040.110
formatPHResults0.0010.0000.000
formatPHTResults0.0000.0000.001
fudge2LRT000
get.pep.prot.cc1.0900.0111.101
getIndicesConditions0.2810.0040.286
getIndicesOfLinesToRemove0.2990.0000.299
getListNbValuesInLines0.2860.0000.285
getNumberOf0.2970.0080.304
getNumberOfEmptyLines0.3100.0040.313
getPourcentageOfMV0.3010.0040.305
getProcessingInfo0.2810.0030.285
getProteinsStats0.3040.0080.312
getQuantile4Imp0.0610.0040.064
getTextForAggregation0.0010.0000.000
getTextForAnaDiff0.0010.0000.000
getTextForFiltering0.0010.0000.000
getTextForGOAnalysis000
getTextForHypothesisTest0.0000.0000.001
getTextForNewDataset0.0020.0000.002
getTextForNormalization0.0010.0000.000
getTextForpeptideImputation0.0000.0000.001
getTextForproteinImputation0.0000.0000.001
globalAdjPval0.3200.0120.332
group_GO4.1400.1364.277
hc_logFC_DensityPlot0.3450.0270.373
hc_mvTypePlot20.6060.0240.629
heatmapD0.5700.0150.586
heatmapForMissingValues0.1380.0080.146
histPValue_HC0.1530.0160.169
impute.pa20.4780.0000.479
inner.aggregate.iter0.3470.0000.348
inner.aggregate.topn0.3310.0000.332
inner.mean0.3200.0000.321
inner.sum0.3220.0000.322
is.subset000
limmaCompleteTest1.1210.0041.126
listSheets000
make.contrast0.3000.0040.304
make.design.10.3050.0000.304
make.design.20.3040.0000.305
make.design.30.3040.0030.307
make.design0.3050.0000.305
match.metacell0.3240.0000.323
metacell.def0.0040.0000.004
metacellHisto_HC0.3860.0120.397
metacellPerLinesHistoPerCondition_HC0.4510.0120.462
metacellPerLinesHisto_HC0.5160.0240.540
metacombine0.0420.0120.054
mvImage1.7580.0361.795
my_hc_ExportMenu0.1100.0240.134
my_hc_chart0.1110.0200.130
nonzero0.0180.0000.019
normalizeMethods.dapar0.0010.0000.000
pepa.test0.3500.0080.358
pkgs.require000
plotJitter1.2210.0801.301
plotJitter_rCharts1.2220.0001.222
plotPCA_Eigen0.3560.0160.372
plotPCA_Eigen_hc0.2960.0000.297
plotPCA_Ind0.3050.0000.305
plotPCA_Var0.2930.0080.301
postHocTest000
proportionConRev_HC0.0360.0080.044
rbindMSnset0.3730.0000.373
reIntroduceMEC0.3420.0000.341
readExcel000
removeLines0.3160.0080.323
samLRT000
saveParameters0.2960.0000.295
scatterplotEnrichGO_HC4.3010.1364.436
search.metacell.tags0.0060.0000.005
separateAdjPval0.1470.0000.147
splitAdjacencyMat0.3260.0010.327
test.design0.2990.0070.305
testAnovaModels0.0880.0000.087
thresholdpval4fdr0.0000.0000.001
translatedRandomBeta0.0040.0040.008
univ_AnnotDbPkg0.1300.0280.157
violinPlotD0.2130.0120.224
visualizeClusters1.0480.0041.053
vsn0.5530.0000.553
wrapper.CVDistD_HC1.3680.1161.484
wrapper.compareNormalizationD_HC27.288 1.62028.909
wrapper.corrMatrixD_HC0.3910.0080.399
wrapper.dapar.impute.mi12.243 0.13212.376
wrapper.heatmapD0.5280.0000.528
wrapper.impute.KNN0.3190.0000.319
wrapper.impute.detQuant0.3770.0070.384
wrapper.impute.fixedValue0.3470.0050.351
wrapper.impute.mle0.3190.0000.319
wrapper.impute.pa0.0980.0000.097
wrapper.impute.pa20.3270.0000.328
wrapper.impute.slsa0.4260.0070.434
wrapper.mvImage0.1120.0000.112
wrapper.normalizeD0.2970.0040.301
wrapper.pca0.1110.0000.111
wrapperCalibrationPlot0.1350.0110.147
wrapperClassic1wayAnova000
wrapperRunClustering1.7450.0471.793
write.excel0.5720.0160.588
writeMSnsetToCSV0.3090.0030.312
writeMSnsetToExcel0.8140.0270.842