Name | Last modified | Size | Description | |
---|---|---|---|---|
Parent Directory | - | |||
checksrc-out.txt | 27-Jul-2024 06:38 | 3.7K | ||
install-out.txt | 27-Jul-2024 06:38 | 1.0K | ||
buildsrc-out.txt | 27-Jul-2024 06:38 | 837 | ||
checksrc-summary.dcf | 27-Jul-2024 06:38 | 444 | ||
buildsrc-summary.dcf | 27-Jul-2024 06:38 | 439 | ||
install-summary.dcf | 27-Jul-2024 06:38 | 274 | ||