Name | Last modified | Size | Description | |
---|---|---|---|---|
Parent Directory | - | |||
checksrc-out.txt | 10-May-2024 00:40 | 3.8K | ||
install-out.txt | 10-May-2024 00:40 | 1.0K | ||
buildsrc-out.txt | 10-May-2024 00:40 | 848 | ||
checksrc-summary.dcf | 10-May-2024 00:40 | 481 | ||
buildsrc-summary.dcf | 10-May-2024 00:40 | 450 | ||
install-summary.dcf | 10-May-2024 00:40 | 285 | ||